BEGIN:VCALENDAR
VERSION:2.0
PRODID:-//Ганден Тендар Линг - ECPv5.16.4//NONSGML v1.0//EN
CALSCALE:GREGORIAN
METHOD:PUBLISH
X-WR-CALNAME:Ганден Тендар Линг
X-ORIGINAL-URL:https://fpmt.ru
X-WR-CALDESC:Мероприятия для Ганден Тендар Линг
BEGIN:VTIMEZONE
TZID:Europe/Moscow
BEGIN:STANDARD
TZOFFSETFROM:+0300
TZOFFSETTO:+0300
TZNAME:MSK
DTSTART:20250101T000000
END:STANDARD
END:VTIMEZONE
BEGIN:VEVENT
DTSTART;TZID=Europe/Moscow:20250111T110000
DTEND;TZID=Europe/Moscow:20250111T130000
DTSTAMP:20260421T113806
CREATED:20250108T175927Z
LAST-MODIFIED:20250108T180210Z
UID:32332-1736593200-1736600400@fpmt.ru
SUMMARY:Чтение Сутры Амитабхи
DESCRIPTION:Дорогие друзья\, хотим пригласить вас к совместному чтению «Сутры Амитабхи» \nСовместное чтение будет проходить в специальном Телеграм-канале: https://t.me/Lotus_Sutra_reading \nО пользе слушания и чтения этой сутры: \n «Сутра Амитабхи» описывает Чистую Землю будды Амитабхи — место\, где нет страданий и препятствий для достижения просветления. Чтение этой сутры помогает укрепить связь с Амитабхой и создать условия для перерождения в этом благом мире. \nЧтение сутры и повторение имени этого будды помогает устранить негативные кармические отпечатки и накопить заслуги\, необходимые для освобождения от сансары. Чтение этой сутры также связано с практиками помощи умершим родственникам и друзьям. Считается\, что посвящение заслуг от чтения сутры помогает умершим найти путь к Чистой Земле. \n  \nПри желании можно сделать подношение досточтимой Чикаку. Номер карты 2202 2081 0880 6556 (сбер) Соболева Камила Дмитриевна. \nВ избранное
URL:https://fpmt.ru/event/110125-2/
CATEGORIES:Календарь сайта
ATTACH;FMTTYPE=image/jpeg:https://fpmt.ru/wp-content/uploads/2024/12/23162462443_d0a4d27c59_k-1.jpg
END:VEVENT
END:VCALENDAR