BEGIN:VCALENDAR
VERSION:2.0
PRODID:-//Ганден Тендар Линг - ECPv5.16.4//NONSGML v1.0//EN
CALSCALE:GREGORIAN
METHOD:PUBLISH
X-WR-CALNAME:Ганден Тендар Линг
X-ORIGINAL-URL:https://fpmt.ru
X-WR-CALDESC:Мероприятия для Ганден Тендар Линг
BEGIN:VTIMEZONE
TZID:Europe/Moscow
BEGIN:STANDARD
TZOFFSETFROM:+0300
TZOFFSETTO:+0300
TZNAME:MSK
DTSTART:20240101T000000
END:STANDARD
END:VTIMEZONE
BEGIN:VEVENT
DTSTART;TZID=Europe/Moscow:20240920T060000
DTEND;TZID=Europe/Moscow:20240920T080000
DTSTAMP:20260421T182648
CREATED:20250916T135845Z
LAST-MODIFIED:20250916T135845Z
UID:34557-1726812000-1726819200@fpmt.ru
SUMMARY:Его Святейшество Далай-лама. Культурное представление для долголетия учителя\, по случаю его 90-летия. Прямая трансляция
DESCRIPTION:20 сентября 2025 года Его Святейшество Далай-лама посетит культурное представление\, организованное во имя его долголетия по случаю 90-летнего юбилея. \nЦеремония будет поднесена духовному лидеру жителями стран Юго-Восточной Азии и Кореи. \nПредставление состоится утром во дворе главного тибетского храма в Дхарамсале. \nЦеремония будет сопровождаться прямой трансляцией с синхронным переводом на русский язык. \nТрансляция будет доступна на YouTube-канале Его Святейшества Далай-ламы и на официальной странице духовного лидера ВКонтакте. \nПриблизительное время трансляции: 6:00–7:30 (мск). \nВ избранное
URL:https://fpmt.ru/event/200925-5/
CATEGORIES:Календарь сайта
ATTACH;FMTTYPE=image/jpeg:https://fpmt.ru/wp-content/uploads/2023/11/isczelenie-ot-gneva1.jpg
END:VEVENT
END:VCALENDAR