BEGIN:VCALENDAR
VERSION:2.0
PRODID:-//Ганден Тендар Линг - ECPv5.16.4//NONSGML v1.0//EN
CALSCALE:GREGORIAN
METHOD:PUBLISH
X-WR-CALNAME:Ганден Тендар Линг
X-ORIGINAL-URL:https://fpmt.ru
X-WR-CALDESC:Мероприятия для Ганден Тендар Линг
BEGIN:VTIMEZONE
TZID:Europe/Moscow
BEGIN:STANDARD
TZOFFSETFROM:+0300
TZOFFSETTO:+0300
TZNAME:MSK
DTSTART:20240101T000000
END:STANDARD
END:VTIMEZONE
BEGIN:VEVENT
DTSTART;TZID=Europe/Moscow:20240926T190000
DTEND;TZID=Europe/Moscow:20240926T203000
DTSTAMP:20260421T182720
CREATED:20240923T114805Z
LAST-MODIFIED:20240923T114805Z
UID:31308-1727377200-1727382600@fpmt.ru
SUMMARY:Дост. Оливье Росси - Арья Нагарджуна «Письмо другу»
DESCRIPTION:Фото: дост. Оливье и Евгений Бузятов. Дневные обзорные сессии в дни учений Ламы Сопы Ринпоче. Москва\, 2017 год \n Друзья\, приглашаем вас на долгожданное событие этой осени – занятия с досточтимым Оливье Росси по тексту великого махасиддхи Нагарджуны. \n Текст «Письмо другу» – это поэма\, которую Арья Нагарджуна написал в виде письма своему другу\, царю Гаутамипутре\, давая советы по практике всего буддийского пути\, ведущего к освобождению\, как для монашествующих\, так и для мирян. \nВ письме\, написанном Нагарджуной своему другу и ученику\, дается искреннее\, детальное изложение буддийского пути\, начиная с базовых основ дисциплины и вплоть до глубинных воззрений махаяны. Текст адресован всем\, кто подлинно желает следовать учению Будды как средству освобождения от сансарического круговорота существования. \nУчение Нагарджуны и сегодня актуально для всех\, кто стремится к освобождению от страданий\, стараясь понять их источник и обрести счастье\, сделав свою жизнь в высшей степени осмысленной. Это короткое сочинение показывает\, как интегрировать буддийскую практику в повседневную жизнь. \nДаты проведения \nЗанятия будут проходить в Zoom\, по четвергам\, начало в 19:00 (мск). \nДаты занятий: 12\, 19\, 26 сентября и 3 октября. \nРегистрация \nЧтобы присоединиться к занятиям требуется пройти регистрацию. \n\n\nРЕГИСТРАЦИЯ\n\n \nПеревод на русский язык \nПеревод занятий – Евгений Бузятов. Подробнее о Жене на странице проекта буддийских переводчиков. \nТекст \nТекст «Письмо другу» Арья Нагарджуны доступен на сайте studybuddhism.com \nОб авторе  \nОсновоположник традиции махаяны\, великий индийский мастер\, махасиддха Арья Нагарджуна отличался способностью изложить все учение Будды в обширных трудах и был особенно отмечен за изложение доктрины глубинного смысла. Нагарджуна передавал линию учений глубокого видения пустотности от Манджушри. \nПодробнее о Нагарджуне на сайте проекта Алекса Берзина. \n \nФото: Рут Институт (Бодхгая\, Индия)\, статуя Нагарджуны в центре \nОб учителе \nДост. Оливье Росси – один из учителей нашего центра\, впервые посетивший Россию в 2017 году в качестве приглашенного учителя\, чтобы вести дневные обзорные лекции в дни проведения учений Ламой Сопой Ринпоче в Москве. Его четкий\, структурированный стиль изложения материала особенно полюбился многим слушателям\, а благодаря глубоким познаниям\, открытости и чувству юмора досточтимого\, ответы на самые разные вопросы смогли получить слушатели вне зависимости от уровня познания буддизма. Посмотреть плей-лист учений дост. Оливье можно на нашем ютьюб-канале: \n\n2017 г. Лекции в рамках учений Ламы Сопы Ринпоче;\n2019 г. Комментарий к тексту «Тренировка ума по 7 пунктам».\n\nОргвзнос \nЗанятия открыты для всех желающих изучать Дхарму. \nТрадиционно мы проводим занятия по принципу щедрости и свободного подношения.  Именно так всем представляется возможность добровольно выразить свою благодарность учителю\, переводчику\, а также оказать помощь в организации\, ведь все наши занятия организуются волонтерскими усилиями и ресурсами. \nСделать подношение можно на нашем сайте по ссылке:  \n\n\nСДЕЛАТЬ ПОДНОШЕНИЕ\n\n \nВ буддизме подчеркивается значимость практики щедрости – первой из парамит\, «совершенств» или далеко ведущих настроев ума. Даяние\, совершённое с чистой мотивацией\, — превосходный источник накопления благой заслуги\, очищения и преобразования ума\, достижения счастья и\, в конечном итоге\, обретения просветления. Так\, даяние пробуждает в нас бодхисаттв! \n  \nВ избранное
URL:https://fpmt.ru/event/260924-4/
CATEGORIES:Календарь сайта
ATTACH;FMTTYPE=image/jpeg:https://fpmt.ru/wp-content/uploads/2024/09/111111.jpg
END:VEVENT
END:VCALENDAR