BEGIN:VCALENDAR
VERSION:2.0
PRODID:-//Ганден Тендар Линг - ECPv5.16.4//NONSGML v1.0//EN
CALSCALE:GREGORIAN
METHOD:PUBLISH
X-WR-CALNAME:Ганден Тендар Линг
X-ORIGINAL-URL:https://fpmt.ru
X-WR-CALDESC:Мероприятия для Ганден Тендар Линг
BEGIN:VTIMEZONE
TZID:Europe/Moscow
BEGIN:STANDARD
TZOFFSETFROM:+0300
TZOFFSETTO:+0300
TZNAME:MSK
DTSTART:20250101T000000
END:STANDARD
END:VTIMEZONE
BEGIN:VEVENT
DTSTART;TZID=Europe/Moscow:20251226T130000
DTEND;TZID=Europe/Moscow:20251226T143000
DTSTAMP:20260421T182648
CREATED:20251222T175147Z
LAST-MODIFIED:20251222T175147Z
UID:35477-1766754000-1766759400@fpmt.ru
SUMMARY:Сутра Памятования о Трех Драгоценностях\, Сутра Ваджрного отсечения (Алмазная Сутра)\, Сутра Сердца Благословенной Праджняпарамиты (Сутра Сердца)\, Царь Молитв (Необычайное устремление практики Самантабхадры)
DESCRIPTION:  \nМы будет читать Сутру Памятования о Трех Драгоценностях\, Сутру Ваджрного отсечения (Алмазная Сутра)\, Сутру Сердца Благословенной Праджняпарамиты (Сутра Сердца)\, Царь Молитв (Необычайное устремление практики Самантабхадры) \nПринять участие могут все желающие. \nКак принять участие?\nПодключайтесь к прямому эфиру в Телеграм-канале \nТекст сутры и дхарани можно скачать из Телеграм-канала\, а также текст будет выведен на экран в Телеграм-канале. \n  \nВ избранное
URL:https://fpmt.ru/event/261225-3/
CATEGORIES:Календарь сайта
ATTACH;FMTTYPE=image/jpeg:https://fpmt.ru/wp-content/uploads/2023/12/izobrazhenie-whatsapp-2023-12-27-v-17.19.44_32d59b31.jpg
END:VEVENT
END:VCALENDAR