BEGIN:VCALENDAR
VERSION:2.0
PRODID:-//Ганден Тендар Линг - ECPv5.16.4//NONSGML v1.0//EN
CALSCALE:GREGORIAN
METHOD:PUBLISH
X-WR-CALNAME:Ганден Тендар Линг
X-ORIGINAL-URL:https://fpmt.ru
X-WR-CALDESC:Мероприятия для Ганден Тендар Линг
BEGIN:VTIMEZONE
TZID:Europe/Moscow
BEGIN:STANDARD
TZOFFSETFROM:+0300
TZOFFSETTO:+0300
TZNAME:MSK
DTSTART:20180101T000000
END:STANDARD
END:VTIMEZONE
BEGIN:VEVENT
DTSTART;TZID=Europe/Moscow:20180629T193000
DTEND;TZID=Europe/Moscow:20180629T213000
DTSTAMP:20260421T131114
CREATED:20180429T195400Z
LAST-MODIFIED:20190430T132317Z
UID:7965-1530300600-1530307800@fpmt.ru
SUMMARY:Открытие Буддизма_Все о карме: Очищение кармы - четыре противодействующие силы
DESCRIPTION:В избранное
URL:https://fpmt.ru/event/otkrytie-buddizma_vse-o-karme-ochishheni/
LOCATION:Буддийский зал центра «Открытый мир»\, ул. Павловская\, 18 с. 2
END:VEVENT
END:VCALENDAR