BEGIN:VCALENDAR
VERSION:2.0
PRODID:-//Ганден Тендар Линг - ECPv5.16.4//NONSGML v1.0//EN
CALSCALE:GREGORIAN
METHOD:PUBLISH
X-WR-CALNAME:Ганден Тендар Линг
X-ORIGINAL-URL:https://fpmt.ru
X-WR-CALDESC:Мероприятия для Ганден Тендар Линг
BEGIN:VTIMEZONE
TZID:Europe/Moscow
BEGIN:STANDARD
TZOFFSETFROM:+0300
TZOFFSETTO:+0300
TZNAME:MSK
DTSTART:20230101T000000
END:STANDARD
END:VTIMEZONE
BEGIN:VEVENT
DTSTART;TZID=Europe/Moscow:20230220T190000
DTEND;TZID=Europe/Moscow:20230220T210000
DTSTAMP:20260420T125640
CREATED:20230220T121043Z
LAST-MODIFIED:20230220T121043Z
UID:27156-1676919600-1676926800@fpmt.ru
SUMMARY:Учения\, посвященные Лосару и дням чудес
DESCRIPTION:20 февраля\, в день новолуния перед Лосаром — тибетским новым годом\, приглашаем вас на онлайн-встречу с геше-лхарамбой Дакпой Джампой.\nНачало в 19:00 время московское. \n\n\n☸ Ссылка для подключения в Zoom\n\n \nID: 868 6800 0274 Код доступа: 212099 \nУзнать подробнее о рекомендации ламы Сопы Ринпоче на дни преумножения и программу нашего центра можно по ссылке. \nВ избранное
URL:https://fpmt.ru/event/200223/
CATEGORIES:Календарь сайта
ATTACH;FMTTYPE=image/jpeg:https://fpmt.ru/wp-content/uploads/2022/12/dizajn-bez-nazvaniya-7.jpg
END:VEVENT
END:VCALENDAR