BEGIN:VCALENDAR
VERSION:2.0
PRODID:-//Ганден Тендар Линг - ECPv5.16.4//NONSGML v1.0//EN
CALSCALE:GREGORIAN
METHOD:PUBLISH
X-WR-CALNAME:Ганден Тендар Линг
X-ORIGINAL-URL:https://fpmt.ru
X-WR-CALDESC:Мероприятия для Ганден Тендар Линг
BEGIN:VTIMEZONE
TZID:Europe/Moscow
BEGIN:STANDARD
TZOFFSETFROM:+0300
TZOFFSETTO:+0300
TZNAME:MSK
DTSTART:20230101T000000
END:STANDARD
END:VTIMEZONE
BEGIN:VEVENT
DTSTART;TZID=Europe/Moscow:20231226T110000
DTEND;TZID=Europe/Moscow:20231226T150000
DTSTAMP:20260422T110617
CREATED:20231224T190557Z
LAST-MODIFIED:20231224T190557Z
UID:29355-1703588400-1703602800@fpmt.ru
SUMMARY:Мастерская Ца-ца (отливка/окрашивание)
DESCRIPTION:Друзья\, хотим поделиться с вами радостными событиями. Мастерская обрела постоянное место и обосновалась в новом очень удобном для практики помещении. Мы расположились прямо под Буддийским Залом\, на первом этаже\, буквально у стоп учителей\, будд и бодхисаттв. Это для нас очень радостное событие и мы надеемся\, что это позволит нам ещё больше участвовать в распространении Дхармы через Практику Ца-Ца. Мы планируем не только по-прежнему обучать технике изготовления Ца-Ца всех желающих\, а также продолжим делать Ца-Ца для закладки в строящиеся Ступы\, делать индивидуальные Ца-Ца для тех\, кто болен или испытывает трудности\, для умерших\, чтобы помочь им обрести благое перерождение. Мы планируем проводить 1-2 дневные ретриты по практике божеств\, включающей изготовление Ца-Ца этого божества. Мы мечтаем о детских программах изготовления/окрашивания Ца-ЦА. Практика ЦА-ЦА невозможна в онлайне\, поэтому мы надеемся\, что наша новая Мастерская никогда не будет пустовать.\nМы очень благодарны руководителям центра Ганден Тендар Линг за то\, что в наше непростое время\, с кучей рисков и сложностей\, для Мастерской всё же сняли помещение. Друзья\, приходите к нам! \n\n\n\n\n\n\n\nВ будние дни участие за свободное подношение.\nВ выходные дни: рекомендованное подношение — 800 рублей\, для школьников\, студентов и пенсионеров — 400 руб. Дошкольники могут свободно приходить с родителями. \nВ Мастерской открывается Детская студия по окрашиванию Ца-Ца. Мы приглашаем родителей с детишками прикоснуться к миру Ца-Ца. Созерцание священных образов оставляет глубокие отпечатки в уме как взрослых\, так и детей\, а также пробуждает в уме ребёнка отпечатки из прошлых жизней\, которые могут помочь ребёнку встать на Путь Дхармы. В Мастерской есть всё необходимое — краски\, кисти и готовые для окрашивания Ца-Ца — как простых форм\, так и более сложных. Окрашивание возможно в один цвет золотом или ведущие помогут подобрать цвета для художественного окрашивания. Любые окрашенные Ца-Ца вы сможете взять себе.\nРекомендованное подношение — 800 рублей со взрослого\, 400 рублей — для школьников\, дошкольники могут приходить с родителями свободно. \nКак обычно\, запись на занятия осуществляется через регистрационную форму\, \n\n\n\n\n\n\n\n\nили через чат в Телеграм-канале: \nМастерская Tsa-Tsa\n\n\n\n\n\n\nВложения\n\n\nЛама Сопа Ринпоче о практике Ца-Ца:\nЭта практика один из самых мощных способов очистить препятствия и накопить обширные заслуги.\nДаже уже в этой жизни вы будете меньше болеть\, будет больше радостей\, у вас будет долгая жизнь и хорошая репутация. Это лучший способ обмануть смерть. Изготовление Ца-Ца помогает преодолеть препятствия\, плохие условия\, предотвратить несчастные случаи и внезапные заболевания\, такие как сердечные приступы и параличи. Делая Ца-Ца\, вы умиротворяете врагов\, недоброжелателей и тех\, кто вредит. Вы накапливаете все заслуги\, очищаете все омрачения и в результате достигнете три кайи в следующей жизни. \nПодробная информация о практике Ца-Ца. \nАдрес: метро Тульская\, ул.Павловская\, 18\, центр Открытый Мир\, 1-ый этаж\, офис 106 «Мастерская Ца-Ца». Как найти: вход слева от центрального входа в Открытый Мир\, пройти вдоль забора с надписью «Альянс»\, вход под второй металлической лестницей. \n\nВ избранное
URL:https://fpmt.ru/event/261223-5/
LOCATION:Павловская улица\, 18. Центр «Открытый мир»\, 1-ый этаж\, офис 106 «Мастерская Ца-Ца».
CATEGORIES:Календарь сайта,Практики
ATTACH;FMTTYPE=image/jpeg:https://fpmt.ru/wp-content/uploads/2021/08/SHablon_dlya_sajta_1920h1080_-_2021-08-29T164000.417.jpg
ORGANIZER;CN="%D0%A6%D0%B5%D0%BD%D1%82%D1%80%20%22%D0%93%D0%B0%D0%BD%D0%B4%D0%B5%D0%BD%20%D0%A2%D0%B5%D0%BD%D0%B4%D0%B0%D1%80%20%D0%9B%D0%B8%D0%BD%D0%B3%22":MAILTO:tsa-tsa@fpmt.ru
END:VEVENT
BEGIN:VEVENT
DTSTART;TZID=Europe/Moscow:20231226T123000
DTEND;TZID=Europe/Moscow:20231226T150000
DTSTAMP:20260422T110617
CREATED:20231212T161338Z
LAST-MODIFIED:20231212T161338Z
UID:29276-1703593800-1703602800@fpmt.ru
SUMMARY:Свободное посещение буддийского зала
DESCRIPTION:Доброго дня\, дорогие друзья!  \nС декабря мы открываем буддийский зал для свободного посещения и выполнения собственных практик с утра в рабочие дни! Приходите к нам на утреннюю медитацию или просто позаниматься собственной практикой в зале. \n Что вас ждет:\n Уютная и спокойная атмосфера буддийского зала\n Групповая утренняя медитация\n Возможность провести личные практики в тишине и спокойствии\n Чай\, кофе\, печеньки \n Расписание работы зала на декабрь: \nНеделя 1:\n4 декабря (Пн): 8:00-15:00\n6 декабря (Ср): 8:00-11:30\n8 декабря (Пт): 8:00-15:00 \nНеделя 2:\n11 декабря (Пн): 8:00-15:00\n12 декабря (Вт): 8:00-15:00\n15 декабря (Пт): 8:00-11:30 \nНеделя 3:\n18 декабря (Пн): 8:00-15:00\n19 декабря (Вт): 8:00-15:00 \nНеделя 4:\n25 декабря (Пн): 8:00-15:00\n26 декабря (Вт): 12:30-15:00\n29 декабря (Пт): 8:00-11:30 \n8:00-8:30 — утренняя медитация\n8:30-11:30/15:00 — время для вашей практики \n*В расписании возможны изменения! Следите за обновлениями. \n Адрес: Ул. Павловская\, д. 18\, м. Тульская\, буддийский зал центра «Открытый мир» \nВ избранное
URL:https://fpmt.ru/event/261223-2/
LOCATION:Павловская улица\, 18. Центр «Открытый мир».
CATEGORIES:Календарь сайта
ATTACH;FMTTYPE=image/jpeg:https://fpmt.ru/wp-content/uploads/2023/12/odnwkudcmkq.jpg
END:VEVENT
BEGIN:VEVENT
DTSTART;TZID=Europe/Moscow:20231226T160000
DTEND;TZID=Europe/Moscow:20231226T180000
DTSTAMP:20260422T110617
CREATED:20231225T151839Z
LAST-MODIFIED:20231225T151839Z
UID:29384-1703606400-1703613600@fpmt.ru
SUMMARY:Чтение Сутры Золотистого Света онлайн (главы 10-21)
DESCRIPTION:Присоединяйтесь к начитыванию Сутры онлайн (Телеграм канал)\n\n \n«Самая полезная вещь\, которую мы можем сделать\, чтобы воцарился мир и прекратились войны — читать «Сутру золотистого света». Это самая полезная вещь для мира\, все должны попробовать её читать. Не важно насколько вы заняты — можете прочесть одну-две страницы или даже всего лишь несколько строк. Когда вы читаете «Сутру золотистого света»\, вы заодно читаете и «мантру непривязанности»\, которая заключена в тексте. Вот польза от повторения одной только этой мантры: никакое материальное добро\, никакие людские богатства и\, в особенности\, никакие сокровища божественных миров (миров\, где обитают суры и асуры)\, не сравнятся с ценностью этой мантры. С этой мантрой ничто не сравнится! Произнеся всего лишь одно-единственное слово этой мантры\, вы накопите безграничные небеса блага и заслуг. Так что чтение всего текста приносит невероятную пользу\, вы накапливаете обширные заслуги\, освобождаете бессчётных живых существ из океана страданий и приводите их к просветлению». — Лама Сопа Ринпоче \nВ начале «Сутры золотистого света» Будда Шакьямуни — Татхагата\, Архат\, Полностью Просветленный — взывает ко всем\, кто испытывает несчастья и омрачения\, болезни\, бедность\, потери\, унижения\, злонамеренность\, страх\, кошмары и другие страдания. Он приглашает наполнить ум добродетелью\, прийти и внимать. \nВ этой «Царице славных сутр» есть все необходимое — от повседневного счастья до полного просветления. В ней есть трогающие сердце практики раскаяния и сорадования\, глубинные учения о взаимозависимом происхождении\, надёжные обещания защиты\, принципы создания идеального правительства и вдохновляющие истории из прошлых жизней Будды\, в которых Будда показывает\, как он\, ещё не устранив полностью все омрачения\, освобождал бесчисленных существ из океана страданий благодаря состраданию и личной отваге. \nВидение Ринпоче \nЛама Сопа Ринпоче дал обет распространять этот текст и даровал устную передачу сутры во множестве уголков мира. Начитывать сутры как можно больше — это также часть обширного видения Ринпоче по поводу ФПМТ. \nУстные передачи \nМы ведём список мест\, где лама Сопа Ринпоче уже даровал устную передачу «Сутры золотистого света». Если вы получили такую передачу\, но она не указана в нашем списке\, пожалуйста\, свяжитесь с нами и расскажите\, где и когда это произошло\, была ли это полная передача или частичная\, чтобы мы могли сделать наш список более точным! \n\nТаос\, Нью-Мексико\, 2000-2003\nДжакарта\, Индонезия\, январь 2004\nОкленд\, Новая Зеландия\, март 2004\nМонастырь «Идга Чозин»\, Монголия\, июнь 2004 (29 глав\, вплоть до главы 10)\nБуддийский центр «Амитабха»\, Сингапур\, май 2005\n«Нагарджуна»\, Барселона\, Испания\, сентябрь 2005\nБостон\, США\, июль 2007\nНью-Йорк\, США\, сентябрь 2007\nКолледж «Майтрипа»\, Портленд\, США\, ноябрь 2007\n«Институт ламы Цонкапы»\, Помая\, Италия\, июль 2008\nГонконг\, Китай\, июль 2010\nМонастырь «Идга Чозин»\, Монголия\, октябрь 2010 (21 глава\, почти завершённая передача)\nМонастырь «Копан»\, Непал\, январь 2011 (29 глав)\nБуддийский центр «Гьялва Гьяцо»\, Калифорния\, США\, март 2011 (29 глав)\n«Коренной институт»\, Индия\, февраль 2014 (21 глава)\nВеликая ступа всемирного сострадания\, Австралия\, октябрь 2014 (29 глав)\nМедитационный центр «Тушита»\, Нью-Дели\, Индия\, февраль 2015 (частично завершёная передача)\nМедитационный центр «Тушита»\, Нью-Дели\, Индия\, март 2018 (частично завершёная передача)\n\nПолучите устную передачу от ламы Сопы Ринпоче \nВо время австралийского затвора в сентябре-октябре 2014 года лама Сопа Ринпоче дал согласие на то\, чтобы прослушивание записи устной передачи Ринпоче считалось полным получением этой передачи. Вы можете получить эту устную передачу\, просмотрев или прослушав видеозапись или аудиозапись\, которые приведены ниже. \nЧтобы получить полную передачу от ламы Сопы Ринпоче\, вы должны прослушать всю сутру целиком\, но не обязательно делать это за один раз. Вы можете слушать эту запись постепенно\, уделяя этому столько времени\, сколько можете. \n\nРинпоче о важности устной передачи \n«Кьябдже Кирти Ценшаб Ринпоче\, [один из моих учителей]\, однажды даровал устную передачу «Сутры ваджрного отсечения» в Стране Будды Медицины в Соединённых Штатах»\, — поделился лама Сопа Ринпоче во время затвора по начитыванию 100 миллионов Мани в Институте ламы Цонкапы\, Помая\, Италия\, в октябре 2017 года. Тогда Ринпоче сказал\, что если вы получили лунг «Сутры ваджрного отсечения»\, а затем прочли её\, то получили такую же пользу\, как если бы прочли её сто тысяч раз. \n«Слова оставляют в уме благие отпечатки\, и это ведёт вас к просветлению\, — продолжил Ринпоче. — Это приносит постижения\, это приближает вас к просветелению. Лунг не занимает много времени\, но те благие отпечатки\, которые он оставляет в вашем уме\, ведут вас к просветлению. Тогда вы сможете совершенным образом трудиться на благо живых существ и вести их к просветлению. Вам стоит это знать. Это основополагающая вещь\, это самое главное». \n«Если вы получили любой лунг\, длинный или краткий\, запишите это\, — посоветовал Ринпоче во время затвора «Свет на пути» в Северной Каролине\, США. — Очень важно записывать это\, чтобы в будущем вы знали\, что за лунг получили. В будущем некоторые учения могут стать очень редкими\, и другим людям понадобиться ваш лунг. В этот момент у вас может быть карма передать его другим. Но если вы не получили линию [передачи]\, то не сможете этого сделать\, ведь вы не получили благословений — учений Будды от самого Будды. Так что записывайте! Для сангхи и мирян очень важно записывать такие вещи — каждое полученное учение и каждый лунг. А иначе вы не будете знать\, получили  вы его или нет\, и из-за этого не сможете никому помочь». \nПредпочитаете аудиозапись устной передачи? \nЕсли вы хотите скачать аудиозапись\, то можете выбрать передачу ламы Сопы Ринпоче и Кирти Ценшаба Ринпоче или аудиоверсию передачи ламы Сопы Ринпоче\, которая выложена на YouTube. \nПросьба Ринпоче к центрам ФПМТ и своим ученикам \nЛама Сопа Ринпоче читает «Сутру золотистого света» в Бодхгае\, Индия. Фото дост. Сары Трешер. \n«Любой\, кто жаждет мира на земле\, должен читать «Сутру Золотистого света» (Ser.ö dam.päi do wang.gyi gyälpo). Эта практика очень важна для того\, чтобы остановить насилие и войны в мире. «Сутра золотистого света» — один из самых действенных способов добиться мира. Все могут её читать. Не важно насколько вы заняты — можете прочесть одну-две страницы или даже всего лишь несколько строк и таким образом продолжать читать «Сутру золотистого света». \nСвятая «Сутра золотисого света — царица сутр. Она обладает огромной силой и может исполнить все наши желания\, равно как и принести всем живым существам мир и счастье\, вплоть до просветления. Она также может оказать огромное влияние на мир во всём мире\, защитить лично вас\, вашу страну или весь мир. Кроме того\, она обладает огромной целительной силой для людей в стране. \nДля всех\, кто жаждет мира для себя и для других\, есть духовный\, дхармический способ обрести мир и покой\, который не потребует причинять другим вред\, не потребует ругать других или даже участвовать в демонстрациях против других\, и всё же споосбен принести мир. Этот текст могут читать все\, и буддисты\, и даже не буддисты\, которые стремятся к миру на земле. \nСутра также защищает страну от того\, что обозначается как природные бедствия\, связанные с элементом ветра\, элементом огня\, элементом земли и элементом воды\, например\, от землетрясений\, наводнений\, ураганов\, пожаров\, торнадо и других тому подобных вещей. Они возникают вовсе не от природы\, а из-за причин и условий\, которые и приводят к опасным ситуациям. Они появлются из-за прошлых внутренних дурных помыслов и поступков людей\, а также из внешних условий. \nПольза чтения этой сутры безмерна\, в тексте говорится\, что начитывание всего нескольких строк «Сутры золотистого света» приносит больше заслуг\, чем подношение драгоценностей\, числом равных всем атомам Тихого океана\, бессчётным буддам. \nНачитывание этой сутры направляет вашу жизнь к просветлению. Чтение этой сутры приносит очень много заслуг\, она обо всём позаботится\, в вашей жизни всё пойдёт как по маслу и все ваши желания исполнятся. Всё дело в невероятном очищении и в обширных заслугах\, которые вы накапливаете. Так вы освобождаете бессчётных живых существ из океана сансарных страданий и приводите их к просвтелению. \nПоэтому сейчас я хочу\, сложив ладони\, обратиться к вам с такой просьбой: пожалуйста\, читайте «Сутру золотистого света» ради мира во всём мире как можно больше». \n— Лама Сопа Ринпоче \nСколько раз эту сутру прочли во всём мире на сегодняшний день \nЭто число начитываний «Сутры золотистого света» к восьмому июля 2021 года: \n52 562 раза в 99 странах. \nЗдесь вы можете найти подробный список. Пожалуйста\, сорадуйтесь этому! \nСкачайте сутру \n«Сутру Золотистого света» перевели уже на пятнадцать языков\, в том числе и на русский! Здесь вы можете бесплатно скачать сборник сутр\, в который\, помимо «Сутры золотистого света»\, входят «Сутра ваджрного отсечения»\, «Двойная сутра»\, «Сутра сердца»\, «Сутра памятования о Трёх Драгоценностях» и «Сутра Неизмеримых Возвышенной Жизни и Изначальной Мудрости» («Сутра Амитаюса»). \nСутру на других языках вы можете скачать с англоязычного сайта ФПМТ. \nКак посвящать заслуги \nВ июле 2007 года Ринпоче посоветовал посвящать заслуги от чтения и слушания «Сутры золотистого света» долгой и крепкой жизни всех гуру\, и особенно долгой и крепкой жизни Его Святейшества Далай-ламы. Также он посоветовал посвящать заслуги тому\, чтобы препятствия для всех проектов ваших гуру были устранены. Он заметил\, что следует посвящать заслуги  любым проектам Его Святейшества\, завершению проекта Майтрея и другим срочным проектам. \nКроме того\, Ринпоче посоветовал посвящать заслуги тому\, чтобы все войны\, насилие\, терроризм\, природные бедствия\, болезни и голод исчезли\, и чтобы все наслаждались миром\, покоем\, достатком\, добрым здоровьем и хранили в сердцах любовь и сострадание. \nПоклоняюсь Буддам — золотистым\, подобным горе Меру\,\nдостоинства которых подобны океану.\nКак к прибежищу обращаюсь к Победителям\,\nсклоняю голову перед этими Победителями. \nПосвящая заслуги\, свои и других\, думайте о своих добродетельных действиях чтения\, слушания и даже размышления об этой царице сутр. Затем подумайте о конкретных войнах\, о  местах\, страдающих от голода\, ужасных болезней и омрачений\, физических или умственных проявлений насилия\, и посвятите заслуги тому\, чтобы всё это немедленно прекратилось. \nБодхисаттва Ручиракету\, который не только свершает желанные деяния\, но и говорит за нас\, от нашего имени\, сложил такую молитву посвящения заслуг: \nБлагодаря этой благой исповеди\nиз священной «[Сутры] золотистого света»\nда пребуду [я] на десяти ступенях\,\nдесяти лучших источниках драгоценного\,\nда засияю достоинствами Будды\nи освобожу [существ] из океана сансарного существования! \nСообщите о своих начитываниях \nВ «Сутре золотистого света» Будда Шакьямуни говорит\, что очень полезно читать даже по одной странице в день\, и эта польза накапливается. Читайте сутру в одиночестве и с другими. \nПоскольку начитывание этой сутры — часть обширного видения ламы Сопы Ринпоче\, мы хотели бы вести счёт начитываниям. Пожалуйста\, свяжитесь с нами\, чтобы сообщить\, сколько раз вы прочитали сутру! \nЕсли вы хотите рассказать о групповом чтении\, пожалуйста\, укажите полное число завершённых начитываний сутры. Чтобы организовать групповое начитывание\, пожалуйста\, прочтите эти рекомендации. \nУчения Ринпоче в махаянском медитационном центре «Тушита»\, усная передача «Сутры золотистого света». \nРассказы учеников о чении «Сутры золотистого света» \nЗнакомство с «Сутрой золотистого света» может принести новые мысли\, изменить ваше понимание\, вызвать необычные сны\, укрепить мотивацию и кто знает\, что ещё! \nЛама Сопа Ринпоче особенно попросил нас рассказать о своём опыте начитывания «Сутры золотистого света». Один человек сообщил\, что\, как только ему прислали сутру по почте\, он почувствовал\, что необходимо зажечь благовония. В самой сутре четыре великих царя объясняют\, что когда практикующий зажигает даже одну палочку благовоний\, аромат призывает всех защитников прибыть туда\, где почитают эту сутру. \nРасскажите о своём опыте слушания\, чтения\, дарения\, получения или даже просто о размышлении о «Сутре золотистого света». \nЗдесь вы можете прочесть об опыте других (на английском языке). \nЕсть вопросы? \nКогда вы читаете или думаете об этой глубокой сутре\, возникают вопросы. По этой ссылке вы можете задать свои вопросы и прочесть ответы \nСделайте пожертвование  в Переводческий фонд ФПМТ \nЧерез Переводческий фонд ФПМТ вы можете проспонсировать будущие проекты переводов\, в том числе версий «Сутры золотистого света» из 29 или 31 главы\, а также других дхармических текстов на английский\, французский\, испанский\, немецкий\, итальянский\, португальский\, китайский\, монгольский и другие языки. Сделать пожертвование вы можете здесь. \nКроме того\, вы можете поддержать издательство московского центра ФПМТ Ганден Тендар Линг\, в том числе сделав пожертвование на печать сборника сутр\, в который входит и «Сутра золотистого света». \nВ избранное
URL:https://fpmt.ru/event/261223-7/
CATEGORIES:Календарь сайта
ATTACH;FMTTYPE=image/jpeg:https://fpmt.ru/wp-content/uploads/2013/02/LSR-chitaet-SZS.jpg
END:VEVENT
BEGIN:VEVENT
DTSTART;TZID=Europe/Moscow:20231226T193000
DTEND;TZID=Europe/Moscow:20231226T213000
DTSTAMP:20260422T110617
CREATED:20231218T161238Z
LAST-MODIFIED:20231218T161238Z
UID:29310-1703619000-1703626200@fpmt.ru
SUMMARY:Онлайн-встречи с Алексом Берзиным
DESCRIPTION:Дорогие друзья\, спешим поделиться с вами радостной новостью и пригласить вас на онлайн-встречи с Алексом Берзиным! \nТема запланированных встреч – «Концепция ума в буддизме». Встречи пройдут в рамках начинающегося первого модуля курса «Открытие буддизма» – «Ум и его потенциал». \nПрисоединиться на занятия модуля можно пройдя регистрацию на нашем сайте. Занятия курса проходят в буддийском зале\, в Москве\, недалеко от метро Тульская. Также\, для студентов из других городов\, запланированы трансляции встреч онлайн в Zoom. \nВстречи с доктором Алексом Берзиным пройдут в открытом формате\, где приветствуются вопросы в рамках заданной темы и обсуждения. \nЗапланированные даты встреч: 19 и 26 декабря\, 19:30. \nДля участия во встречах с Алексом Берзиным можно пройти общую регистрацию на учебный модуль или же присоединиться по ссылке\, которая будет опубликована в нашем Телеграм-канале за час до начала встречи. \n  \nОб учителе \nД-р Александр Берзин (р. 1944) – буддийский переводчик\, учитель\, учёный\, буддолог\, тибетолог и практикующий с опытом в буддизме более 50 лет. Получив учёную степень (Ph.D.) в Гарварде\, д-р Берзин провёл 29 лет в Индии\, изучая буддизм под руководством величайших тибетских мастеров нашего времени. В то время он периодически служил устным переводчиком Е.С. Далай-ламы и его наставников. Д-р Берзин – основатель и автор сайтов «Библиотека Берзина» и studybuddhism.com. На сегодняшний день материалы сайта переводятся на 36 языков и в работе находится еще один. Десять из них\, это языки Индии\, и переводческая работа на эти языки является следованием наставлениям Его Святейшества Далай-ламы\, согласно которым\, буддийское учение должно быть доступно для людей на родине его возникновения. \nВ 1965 году Алекс получил степень бакалавра на кафедре ориенталистики Рутгерского университета в сотрудничестве с Принстонским университетом\, в 1967 году — степень магистра\, а в 1972 году — степень доктора на кафедре дальневосточных языков (китайский) и санскрита и кафедре индологии Гарвардского университета со специализацией «тибетские исследования». С 1969 по 1998 гг.\, без малого тридцать лет он провёл в индийских Гималаях\, в Дхарамсале\, практикуя дхарму и обучаясь у самых выдающихся мастеров всех четырёх традиций тибетского буддизма. \nЕго коренным гуру был Ценшаб Серконг Ринпоче\, партнёр-наставник по философским дебатам и один из учителей Его Святейшества Далай-ламы XIV. Алекс выступал в роли личного секретаря и переводчика своего учителя в течение девяти лет\, сопровождая его в нескольких мировых турне. Он неоднократно выступал и в роли личного переводчика Его Святейшества Далай-ламы XIV. \nАлекс является автором ряда книг и статей о тибетском буддизме\, в том числе переведенных на русский язык. С 1983 г.\, путешествуя по миру он читал лекции и давал учения по практике и теории буддийского учения в Дхарма-центрах и университетах более чем семидесяти стран мира\, в основном в бывших странах социалистического лагеря\, а также в Латинской Америке\, Африке и на Ближнем Востоке. Начиная с 1987 г. прoфессор Берзин неоднократно посещал Россию и республики бывшего СССР\, преподавая буддизм в Москве\, Санкт-Петербурге\, Элисте\, Улан-Удэ\, Кызыле\, читая лекции и проводя семинары в Эстонии\, Латвии\, Литве\, Белоруссии\, Казахстане\, Киргизии и Узбекистане. \nПодробнее об учителе и записи прошлых лекций на русском языке – на нашем сайте. \nБольше материалов об Алексе на сайте Study Buddhism. \nВ избранное
URL:https://fpmt.ru/event/261223-3/
ATTACH;FMTTYPE=image/jpeg:https://fpmt.ru/wp-content/uploads/2023/12/izobrazhenie-whatsapp-2023-12-15-v-14.31.12_9368ba78.jpg
END:VEVENT
BEGIN:VEVENT
DTSTART;TZID=Europe/Moscow:20231226T210000
DTEND;TZID=Europe/Moscow:20231226T220000
DTSTAMP:20260422T110617
CREATED:20231225T150324Z
LAST-MODIFIED:20231225T150324Z
UID:29367-1703624400-1703628000@fpmt.ru
SUMMARY:Чтения Манджушри Нама Самгити
DESCRIPTION:Его Святейшество Далай-лама даровал драгоценные наставления ученикам и последователям Ламы Сопы Ринпоче\, обратившимся к нему с вопросом о новом воплощении Ламы Сопы. Его Святейшество рекомендовал в течение ближайших нескольких месяцев непрерывно начитывать «Называние имен благородного Манджушри» для скорейшего возвращения реинкарнации Ринпоче. \nЦентр «Ганден Тендар Линг» приглашает присоединиться к совместному чтению этого драгоценного текста в специально созданной группе в Телеграм.  \n\n\nГруппа чтения «Манджушри Нама Самгити»\n\n \n«Мы обращаемся ко всем ученикам Ламы Сопы Ринпоче с просьбой непрерывно повторять этот текст как можно больше раз\, начиная с сегодняшнего дня. Через несколько месяцев к Его Святейшеству снова обратятся за советом»\, — сообщается на сайте Фонда. \nТексты практики \n— на русском языке\, \n— на английском языке. \nАудиозапись (лунг)\, где Лама Сопа Ринпоче читает «Называние имен Манджушри» можно послушать по ссылке. \nТекст письма из офиса Его Святейшества Далай-ламы: \n \n  \n  \n  \n«В ответ на просьбу учеников центров ФПМТ о проведении проверки по поводу скорейшего возвращения реинкарнации покинувшего этот мир Сопы Ринпоче\, получен следующий результат: пожалуйста\, непрерывно читайте «Имена Манджушри» (Джампал Тшен Джо)\, а через несколько месяцев вновь будет проведена проверка. \nОт Его Святейшества Далай-ламы \n18 октября 2023 г.» \n  \n  \n  \nНеделей ранее радостной новостью о подношении 458 статуй Будды Его Святейшеству Далай-ламе поделились в Копане. \n«У нас невероятно радостная новость! На прошлой неделе были поднесены оставшиеся 458 статуи Будды из 1000 статуй\, которые были изготовлены для долгой жизни Его Святейшества Далай-ламы\, первые из них были поднесены во время пуджи долгой жизни в мае 2023 года»\, — поделились организаторы. \nВ начале сентября несколько геше из монастыря Копан (Непал) отправились в медитационный центр «Тушита» в Маклеод Гандже\, чтобы принять статуи\, которые были доставлены на грузовике из Непала\, где они были изготовлены. Как только все статуи были доставлены\, геше Копана с большой заботой и радостью наполнили каждую статую\, провели обряд освящения\, и упаковали их\, чтобы они могли быть поднесены Его Святейшеству Далай-ламе. \nПосмотреть короткое видео о ходе работ по подготовке статуй можно по ссылке. \nПо завершении работ\, геше посетили офис Его Святейшества\, чтобы выяснить\, когда и как лучше всего поднести статуи\, и получили радостную новость о том\, что на следующий день каждый из них сможет поднести по одной статуэтке из подготовленных 458 лично Его Святейшеству. Это благоприятное подношение Его Святейшеству Далай-ламе монахами Копана было совершено от имени Ламы Сопы Ринпоче и всех учеников центров Ринпоче. Остальные статуи также были переданы Его Святейшеству. \nЛама Сопа Ринпоче отмечал\, что хотел бы\, чтобы подношение статуй Будды продолжалось и после подношения 1000 статуй. Ученики Ринпоче отмечают\, что с нетерпением ждут возможности выполнить эту просьбу. Поскольку Его Святейшество Далай-лама дарит статуи гостям и высокопоставленным лицам\, Лама Сопа Ринпоче хотел иметь возможность делать эти благоприятные подношения Его Святейшеству как можно дольше. \n  \nСердечная благодарность и сорадование всем\, кто сделал возможным это драгоценное подношение от имени Ламы Сопы Ринпоче.  \nВ избранное
URL:https://fpmt.ru/event/261223-6/
CATEGORIES:Календарь сайта
ATTACH;FMTTYPE=image/jpeg:https://fpmt.ru/wp-content/uploads/2023/10/whatsapp-image-2023-10-23-at-18.50.55.jpg
END:VEVENT
END:VCALENDAR