BEGIN:VCALENDAR
VERSION:2.0
PRODID:-//Ганден Тендар Линг - ECPv5.16.4//NONSGML v1.0//EN
CALSCALE:GREGORIAN
METHOD:PUBLISH
X-WR-CALNAME:Ганден Тендар Линг
X-ORIGINAL-URL:https://fpmt.ru
X-WR-CALDESC:Мероприятия для Ганден Тендар Линг
BEGIN:VTIMEZONE
TZID:Europe/Moscow
BEGIN:STANDARD
TZOFFSETFROM:+0300
TZOFFSETTO:+0300
TZNAME:MSK
DTSTART:20240101T000000
END:STANDARD
END:VTIMEZONE
BEGIN:VEVENT
DTSTART;TZID=Europe/Moscow:20240209T180000
DTEND;TZID=Europe/Moscow:20240209T200000
DTSTAMP:20260425T161755
CREATED:20240207T170954Z
LAST-MODIFIED:20240207T170954Z
UID:29698-1707501600-1707508800@fpmt.ru
SUMMARY:Семинар с Чеченбаем Монгуш по философским школам
DESCRIPTION:Друзья\, по совету геше Дакпы Джампы начинается серия семинаров с Чеченбаем для обновления воспоминаний и краткого освежения знаний по философским школам\, для лучшего понимания главы о совершенстве мудрости Бодхичарья аватары. \n29 сентября в 18:00 — занятие по двум низшим школам\,\n7 октября в 18:00 — занятие по читтаматре и мадхьямаке. \nССЫЛКА ДЛЯ ПОДКЛЮЧЕНИЯ \nИдентификатор конференции: 872 3503 8579\nКод доступа: 144494 \nПодношения \n Участие в курсе бесплатное\, и открыто для всех желающих. \n\nЗдесь можно сделать подношение учителю\nПодношение переводчику (пожалуйста\, обязательно укажите внизу в комментарии\, что это подношение для Чеченбая или за перевод лекций геше ДД).\n\nВ избранное
URL:https://fpmt.ru/event/090224-3/
CATEGORIES:Календарь сайта
ATTACH;FMTTYPE=image/jpeg:https://fpmt.ru/wp-content/uploads/2023/09/whatsapp-image-2023-09-24-at-18.57.24.jpg
END:VEVENT
BEGIN:VEVENT
DTSTART;TZID=Europe/Moscow:20240209T190000
DTEND;TZID=Europe/Moscow:20240209T203000
DTSTAMP:20260425T161755
CREATED:20240207T164308Z
LAST-MODIFIED:20240207T164308Z
UID:29691-1707505200-1707510600@fpmt.ru
SUMMARY:Медитация в зале и в Zoom
DESCRIPTION:Каждую пятницу в 19:00 приглашаем вас присоединиться к  занятиям по медитации. \n  \nДля участия необходима регистрация. \n  \nЗанятия предназначены для всех желающих: подходят для новичков и опытных практиков. \n  \nЗанятия включают в себя немного теории и много практики. На занятиях мы будем говорить о целях\, методиках и особенностях практики медитации и\, конечно\, много практиковать и получать собственный опыт — совершенствоваться в распознавании своих эмоции и работе с ними\, учиться влиять на поток собственных мыслей\, чтобы перестать реагировать на события «на автомате» и быть осознанными в каждый момент. \n  \nМедитативная практика позволяет снизить стресс\, улучшить сосредоточенность и эффективность в работе\, гармонизировать личные отношения. Развивая при помощи медитации умиротворенное состояние ума\, мы постепенно меняем свою жизнь и жизнь своих близких к лучшему. \n  \nМногие отмечают\, что практика медитации в группе достаточно сильно отличается от медитации наедине. В группе легче придерживаться дисциплины занятия\, и\, оттого\, сфокусироваться. Практикуя вместе\, мы\, словно подзаряжаем друг друга\, даря вдохновение и поддерживая практику друг друга. \n  \nНа занятиях мы опираемся на знания и медитации нашего периодического курса по основам медитации. \n  \nДля кого?  \n  \nЗанятия предназначены для всех желающих\, в т.ч. для тех\, кто только начинает своё знакомство с медитацией.  Занятия основаны на базовых техниках буддийской медитации\, но не предполагают\, что участники являются буддистами или хотят впоследствии изучать буддизм. \n  \nЗапись на занятие  \n  \nЗанятия проходят в буддийском зале с трансляцией онлайн — для получения доступа к занятию необходимо зарегистрироваться. \n  \nЕсли после регистрации вам не пришло письмо на почту\, проверьте папку «Спам». Если это не помогло — напишите на почту spc@fpmt.ru \n  \n\n\nРегистрация\n\n \n  \nСколько стоят занятия?  \n  \nЗанятия проводятся за свободное подношение. Рекомендуемый оргвзнос — 300 р. Вы можете сделать подношение во время занятий или на этой странице . \n  \n\n\nСделать подношение\n\n \nЖдем вас на практике! \n  \n  \nВ избранное
URL:https://fpmt.ru/event/090224-2/
CATEGORIES:Календарь сайта,Практики
ATTACH;FMTTYPE=image/jpeg:https://fpmt.ru/wp-content/uploads/2022/05/SHablon_dlya_sajta_1920h1080_-_2021-07-17T153653.023.jpg
ORGANIZER;CN="%D0%A6%D0%B5%D0%BD%D1%82%D1%80%20%22%20%D0%93%D0%B0%D0%BD%D0%B4%D0%B5%D0%BD%20%D0%A2%D0%B5%D0%BD%D0%B4%D0%B0%D1%80%20%D0%9B%D0%B8%D0%BD%D0%B3%20%22":MAILTO:spc@fpmt.ru
END:VEVENT
BEGIN:VEVENT
DTSTART;TZID=Europe/Moscow:20240209T210000
DTEND;TZID=Europe/Moscow:20240209T220000
DTSTAMP:20260425T161755
CREATED:20240205T143001Z
LAST-MODIFIED:20240205T143001Z
UID:29659-1707512400-1707516000@fpmt.ru
SUMMARY:Чтения Манджушри Нама Самгити
DESCRIPTION:Его Святейшество Далай-лама даровал драгоценные наставления ученикам и последователям Ламы Сопы Ринпоче\, обратившимся к нему с вопросом о новом воплощении Ламы Сопы. Его Святейшество рекомендовал в течение ближайших нескольких месяцев непрерывно начитывать «Называние имен благородного Манджушри» для скорейшего возвращения реинкарнации Ринпоче. \nЦентр «Ганден Тендар Линг» приглашает присоединиться к совместному чтению этого драгоценного текста в специально созданной группе в Телеграм.  \n\n\nГруппа чтения «Манджушри Нама Самгити»\n\n \n«Мы обращаемся ко всем ученикам Ламы Сопы Ринпоче с просьбой непрерывно повторять этот текст как можно больше раз\, начиная с сегодняшнего дня. Через несколько месяцев к Его Святейшеству снова обратятся за советом»\, — сообщается на сайте Фонда. \nТексты практики \n— на русском языке\, \n— на английском языке. \nАудиозапись (лунг)\, где Лама Сопа Ринпоче читает «Называние имен Манджушри» можно послушать по ссылке. \nТекст письма из офиса Его Святейшества Далай-ламы: \n \n  \n  \n  \n«В ответ на просьбу учеников центров ФПМТ о проведении проверки по поводу скорейшего возвращения реинкарнации покинувшего этот мир Сопы Ринпоче\, получен следующий результат: пожалуйста\, непрерывно читайте «Имена Манджушри» (Джампал Тшен Джо)\, а через несколько месяцев вновь будет проведена проверка. \nОт Его Святейшества Далай-ламы \n18 октября 2023 г.» \n  \n  \n  \nНеделей ранее радостной новостью о подношении 458 статуй Будды Его Святейшеству Далай-ламе поделились в Копане. \n«У нас невероятно радостная новость! На прошлой неделе были поднесены оставшиеся 458 статуи Будды из 1000 статуй\, которые были изготовлены для долгой жизни Его Святейшества Далай-ламы\, первые из них были поднесены во время пуджи долгой жизни в мае 2023 года»\, — поделились организаторы. \nВ начале сентября несколько геше из монастыря Копан (Непал) отправились в медитационный центр «Тушита» в Маклеод Гандже\, чтобы принять статуи\, которые были доставлены на грузовике из Непала\, где они были изготовлены. Как только все статуи были доставлены\, геше Копана с большой заботой и радостью наполнили каждую статую\, провели обряд освящения\, и упаковали их\, чтобы они могли быть поднесены Его Святейшеству Далай-ламе. \nПосмотреть короткое видео о ходе работ по подготовке статуй можно по ссылке. \nПо завершении работ\, геше посетили офис Его Святейшества\, чтобы выяснить\, когда и как лучше всего поднести статуи\, и получили радостную новость о том\, что на следующий день каждый из них сможет поднести по одной статуэтке из подготовленных 458 лично Его Святейшеству. Это благоприятное подношение Его Святейшеству Далай-ламе монахами Копана было совершено от имени Ламы Сопы Ринпоче и всех учеников центров Ринпоче. Остальные статуи также были переданы Его Святейшеству. \nЛама Сопа Ринпоче отмечал\, что хотел бы\, чтобы подношение статуй Будды продолжалось и после подношения 1000 статуй. Ученики Ринпоче отмечают\, что с нетерпением ждут возможности выполнить эту просьбу. Поскольку Его Святейшество Далай-лама дарит статуи гостям и высокопоставленным лицам\, Лама Сопа Ринпоче хотел иметь возможность делать эти благоприятные подношения Его Святейшеству как можно дольше. \n  \nСердечная благодарность и сорадование всем\, кто сделал возможным это драгоценное подношение от имени Ламы Сопы Ринпоче.  \nВ избранное
URL:https://fpmt.ru/event/090224/
CATEGORIES:Календарь сайта
ATTACH;FMTTYPE=image/jpeg:https://fpmt.ru/wp-content/uploads/2023/10/whatsapp-image-2023-10-23-at-18.50.55.jpg
END:VEVENT
END:VCALENDAR