BEGIN:VCALENDAR
VERSION:2.0
PRODID:-//Ганден Тендар Линг - ECPv5.16.4//NONSGML v1.0//EN
CALSCALE:GREGORIAN
METHOD:PUBLISH
X-WR-CALNAME:Ганден Тендар Линг
X-ORIGINAL-URL:https://fpmt.ru
X-WR-CALDESC:Мероприятия для Ганден Тендар Линг
BEGIN:VTIMEZONE
TZID:Europe/Moscow
BEGIN:STANDARD
TZOFFSETFROM:+0300
TZOFFSETTO:+0300
TZNAME:MSK
DTSTART:20240101T000000
END:STANDARD
END:VTIMEZONE
BEGIN:VEVENT
DTSTART;TZID=Europe/Moscow:20240407T120000
DTEND;TZID=Europe/Moscow:20240414T203000
DTSTAMP:20260425T161358
CREATED:20240330T141547Z
LAST-MODIFIED:20240331T181945Z
UID:30094-1712491200-1713126600@fpmt.ru
SUMMARY:«Буддийский фестиваль благой удачи»
DESCRIPTION:Фонд «Сохраним Тибет» и Буддийский центр «Ганден Тендар Линг» приглашают вас стать гостями и участниками многочисленных событий Буддийского фестиваля благой удачи\, вдохновленного идеями\, учениями и самой жизнью выдающегося буддийского наставника Ламы Сопы Ринпоче. \nФестиваль состоится с 7 по 14 апреля 2024 года в ДК «Рассвет» в центре Москвы. \n\n\nРЕГИСТРАЦИЯ\n\n \nЗдесь можно ознакомится с более подробной информацией о фестивале: \n\n\nФестиваль Благой Удачи\n\n \nСогласно Учению Будды\, многие наши достижения в жизни мирской и духовной – от успеха в благих начинаниях\, быстрого исцеления от болезней и преодоления трудностей до освоения самых сложных дисциплин\, продвижения по духовному пути и постижения высших истин – в значительной степени зависят от накопления заслуг. \nПод «заслугами» в буддизме понимается положительный потенциал\, обретаемый нами при совершении благих деяний вообще и особенно связанных с буддийской Дхармой – созданием статуй\, ступ и буддийских барельефов (ца-ца); переписыванием сутр; развешиванием молитвенных флажков лунгта; участием в учениях и ритуалах; порождением бодхичитты и постижением пустоты. \nСпособов накопить заслуги и обрести «благую удачу» великое множество\, однако жителям больших городов зачастую трудно найти для этого место и время. Буддийский фестиваль благой удачи – это попытка создать особое пространство\, в котором каждый человек сможет накопить заслуги и так сделать лучше свою собственную жизнь\, жизнь своей страны\, планеты и всех живых существ. \nДля последователей буддизма махаяны Буддийский фестиваль благой удачи – это также возможность воздать дань почтения необыкновенному буддийскому наставнику традиций гелуг и ньингма – Ламе Сопе Ринпоче\, неоднократно посещавшему нашу страну и передавшему российским буддистам множество глубоких учений и личных наставлений\, которые сегодня составляют основу их личной духовной практики. \nПосетив Буддийский фестиваль благой удачи\, вы сможете совершить обхождение вокруг огромного алтаря\, возведенного в соответствии с пожеланиями Ламы Сопы Ринпоче; вознести молитвы у серебряной ступы с реликвиями Будды Шакьямуни\, переданными духовным лидером тибетского буддизма Его Святейшеством Далай-ламой; принять участие в мастер-классах по изготовлению ца-ца\, переписывании сутр и начитывании буддийских мантр и молитв для накопления заслуг; понаблюдать за процессом построения мандалы Будды Медицины\, которую возведут монахи\, прибывшие на фестиваль из высокогорного Ладака\, Северная Индия; увидеть выставку редких архивных фотографий о жизни Ламы Сопы Ринпоче и посмотреть уникальные документальные фильмы. \nЛама Сопа Ринпоче оставил этот мир 13 апреля 2023 года. Годом спустя\, 13 апреля 2024 года\, его российские ученики соберутся вместе\, чтобы почтить память учителя и прочитать молитвы о его скорейшем перерождении. \nБуддийский фестиваль благой удачи завершится церемоний благословения животных\, к которым Лама Сопа Ринпоче питал особенное сострадание. Лама Сопа Ринпоче дважды проводил церемонию благословения животных в Москве и один раз в буддийской республике Калмыкия. На этот раз животных благословит глава делегации гималайских монахов геше Цеванг Дордже. \nЖдем вас на буддийском фестивале благой удачи! \n \nУчастие бесплатное. Необходима регистрация. \n\n\nРЕГИСТРАЦИЯ\n\n \nМесто проведения фестиваля\nФестиваль состоится с 7 по 14 апреля 2024 года в ДК «Рассвет»\, расположенном в самом центре Москвы по адресу:\nМосква\, Столярный переулок\, 3к15 (м. «Улица 1905 года»). \nПРОГРАММА ФЕСТИВАЛЯ\n(Внимание! В расписании возможны изменения и дополнения) \n7 апреля (вс) – День защитников \n12:00 – Торжественное открытие «Буддийского фестиваля благой удачи». Презентация выставки «Духовное путешествие в мир ламы Сопы Ринпоче». Краткая презентация зон (ца-ца\, чтение сутр\, начитывание «Манджушри-нама-самгити»\, переписывание сутр).\n13:00 – Церемония благословения пространства для возведения мандалы Будды Медицины. Лекция геше Цеванга (Нгари Институт буддийской диалектики) «Будда Медицины – исцеление мира от болезней и невзгод». Начало строительство мандалы Будды Медицины.\n14:00 – Лама Сопа Ринпоче. Два визита в Москву. Документальный фильм Романа Сухоставского.\nс 15:00 – Начало работы зон накопления благих заслуг (ца-ца\, чтение сутр\, начитывание «Манджушри-нама-самгити»\, переписывание сутр). Мастер-класс по изготовлению ца-ца. Нима Панюкова.\nс 15:00 до 16:00 – чтение сутр:\n– Сутра и/или Дхарани Будды Медицины;\n– Начитывание «Манджушри-нама-самгити»;\n– Сутра Сердца;\n– Сутра памятования о Трёх Драгоценностях.\n16:00 – Знакомство с монахами. Геше Цеванг о Нгари Институте буддийской диалектики.\n17:00 – Презентация «Лама Сопа Ринпоче о практиках Будды Медицины». Андрей Ломоносов.\n17:30 – Учение геше Цеванга по сочинению Чже Цонкапы «Песнь духовного опыта».\n19:00 – Ритуал защитных божеств: Каларупа (Другчума). Ритуал Белого Махакалы་(Гонкар йишин норбу).\n20:00 – Документальный фильм Нати Бараца «Избранный». \n8 апреля (пн) – День затмения \n12:00 – Утренний ритуал Будды Медицины с монахами Нгари Института. Молитвы включают принятие прибежища\, гуру-йогу\, Сутру сердца\, восхваление 21 Тары\, устранение препятствий с опорой на Белозонтичную Тару и Синкхамукху\, призывание Махакалы и других защитников. Эти молитвы ежедневно читаются в гелугпинских монастырях.\nc 13:00 – Построение мандалы Будды Медицины\, работа зон (ца-ца\, чтение сутр\, начитывание «Манджушри-нама-самгити»\, переписывание сутр).\nc 13:00 до 15:00 – чтение cутр:\n– Сутра и дхарани Будды Медицины;\n– Сутра Ваджрного отсечения;\n– Называние имён Манджушри;\n– Царь молитв.\n14:00 – Показ фильмов из серии «Открытие буддизма» (серия 1. «Сознание и его возможности»; серия 2. «Что такое медитация?»).\n15:00 – Презентация «О практиках в день затмения». Татьяна Ильина.\n16:00 – Практическое занятие с геше Цевангом. Польза начитывания мантр. Короткая медитация. Ответы на вопросы.\n17:00 – Фрагменты видеозапиcей учений ламы Сопы Ринпоче.\n18:30 – Учение геше Цеванга по сочинению Чже Цонкапы «Песнь духовного опыта».\n20:00 – Пуджа Будды Медицины с объяснением геше Цеванга. Устная передача мантры Будды Медицины. \n9 апреля (вт) \n12:00 – Утренний ритуал Будды Медицины с монахами Нгари Института.\nс 13:00 – Построение мандалы Будды Медицины\, работа зон (ца-ца\, чтение сутр\, начитывание «Манджушри-нама-самгити»\, переписывание сутр).\nc 13:00 до 15:00 – чтение сутр:\n– Сутра и дхарани Будды Медицины;\n– Называние имён Манджушри:\n– Сутра Золотистого света (часть текста 1).\n14:00 – Показ фильмов из серии «Открытие буддизма» (серия 3. Что такое духовный путь; серия 4. Духовный учитель)\n15:00 – Презентация «Лама Сопа Ринпоче о пользе изготовления ца-ца и переписывания сутр». Нима Панюкова. Мастер-класс по изготовлению ца-ца. Нима Панюкова.\n16:00 – Практическое занятие с геше Цевангом. Подношение мандалы. Ответы на вопросы.\n17:00 – Фрагменты видеозапиcей учений ламы Сопы Ринпоче.\n18:30 – Учение геше Цеванга по сочинению Чже Цонкапы «Песнь духовного опыта».\n20:00 – Пуджа «Читтамани Тара» (Мандал Шива) – подношение четырех мандал Таре. \n10 апреля (ср) \n12:00 – Утренний ритуал Будды Медицины с монахами Нгари Института.\nc 13:00 – Построение мандалы Будды Медицины\, работа зон (ца-ца\, чтение сутр\, начитывание «Манджушри-нама-самгити»\, переписывание сутр).\nc 13:00 до 15:00 – чтение сутр:\n– Сутра и дхарани Будды Медицины;\n– Называние имён Манджушри;\n– Сутра Золотистого света (часть текста 2).\n14:00 – Показ фильма «Открытие буддизма» (серия 5. Смерть и перерождение; серия 6. Все о карме).\n15:00 – Презентация «Лама Сопа Ринпоче о пользе молитвенных барабанов». Камила Соболева.\n16:00 – Беседа геше Цеванга о практике подношений (чаши с водой\, санг\, сур). Короткая медитация. Ответы на вопросы.\n17:00 – Фрагменты видеозапиcей учений ламы Сопы Ринпоче.\n18:30 – Учение геше Цеванга по сочинению Чже Цонкапы «Песнь духовного опыта».\n20:00 – Дженанг (благословение на практику) Белого Манджушри. \n11 апреля (чт) \n12:00 – Утренний ритуал Будды Медицины с монахами Нгари Института.\nc 13:00 – Построение мандалы Будды Медицины\, работа зон (ца-ца\, чтение сутр\, начитывание «Манджушри-нама-самгити»\, переписывание сутр).\nc 13:00 до 15:00 – чтение сутр:\n– Сутра и дхарани Будды Медицины;\n– Называние имён Манджушри;\n– Сутра Золотистого света (часть текста 3).\n14:00 – Показ фильма «Открытие буддизма» (серия 7. Прибежище в Трех Драгоценностях; серия 8. Что такое ежедневная практика?).\n15:00 – Презентация книг ламы Сопы Ринпоче. Андрей Ломоносов\n16:00 – Беседа геше Цеванга. Как обустроить домашний алтарь. Короткая медитация. Ответы на вопросы.\n17:00 – Фрагменты видеозапиcей учений ламы Сопы Ринпоче.\n18:30 – Учение геше Цеванга по сочинению Чже Цонкапы «Песнь духовного опыта». Медитация.\n20:00 – Практики для устранения препятствий на пути Дхармы и в обыденной жизни.\nРитуал Ситатапатры. Молитвы к Гуру Ринпоче: Сампа лхундрубма и Барче ламсел. \n12 апреля (пт) \n12:00 – Утренний ритуал Будды Медицины с монахами Нгари Института.\n13:00 – Построение мандалы Будды Медицины\, работа зон (ца-ца\, чтение сутр\, начитывание «Манджушри-нама-самгити»\, переписывание сутр).\nc 13:00 до 15:00 – чтение сутр:\n– Сутра и дхарани Будды Медицины;\n– Называние имён Манджушри;\n– Сутра неизмеримых возвышенной жизни и изначальной мудрости.\n14:00 – Показ фильма «Открытие буддизма» (серия 9. Сансара и нирвана; серия 10. Как развить бодхичитту?).\n15:00 – Презентация “Образовательные программы\, вдохновленные ламой Сопой Ринпоче”. Камила Соболева.\n16:00 – Беседа геше Цеванга о простираниях и раскаянии перед 35 буддами. Короткая медитация. Ответы на вопросы.\n17:00 – Фрагменты видеозапиcей учений ламы Сопы Ринпоче.\n20:00 – Дженанг и пуджа Белой Тары\, божества долголетия. \n13 апреля (сб) – День памяти ламы Сопы Ринпоче \n12:00 – Торжественная церемония памяти ламы Сопы Ринпоче. Презентация «Духовный путь Ламы Сопы Ринпоче». Андрей Ломоносов.\n13:00 – Выступление приглашенных гостей.\n14:00 – Геше Цеванг о ламе Сопе Ринпоче. Гуру Пуджа – Лама Чопа (цог).\nСовместное начитывание «Манджушри-нама-самгити». Молитвы о скорейшем перерождении ламы Сопы Ринпоче.\n16:00 – «Молитва ламы Сопы Ринпоче». Документальный фильм Романа Сухоставского.\n17:00 – Презентация книги ламы Сопы Ринпоче «Совершенное Очищение. Наставления по практике Ваджрасаттвы в затворничестве» и проекта «Наследие». Андрей Ломоносов.\n17:30 Дженанг на практику Ваджрасаттвы. Комментарий на практику. Объяснение. Совместное начитывание мантры Ваджрасаттвы.\n19:00 – Музыкальное подношение Ламе Сопе Ринпоче. Антон Батагов (фортепиано).\n20:00 – Документальный фильм «Мистический Тибет» о паломничестве с ламой Сопой Ринпоче. \n14 апреля (вс)\nДень помощи животным. Разрушение мандалы «Будды Медицины» \n12:00 – Церемония благословения животных во главе с геше Цевангом. Лекция геше Цеванга «Буддийские методы помощи животным». Передача буддийских мантр для оказания помощи животным\, рекомендованных ламой Сопой Ринпоче. Медитация о сострадании ко всем живым существам.\n14:00 – Обход с животными вокруг мандалы Будды Медицины и священных реликвий.\n18:00 – Церемония разрушения мандалы Будды медицины. Завершение фестиваля \n\n\nО Ламе Сопе Ринпоче\nЛама Сопа Ринпоче (1945–2023) – выдающийся буддийский учитель\, духовный руководитель более чем 150 центров и проектов в 38 странах мира. Автор множества книг. Ряд книг и учений переведены на русский язык («Так называемый я»\, «Преобразование проблем в радость»\, «Абсолютное исцеление» и другие). \nЛама Сопа Ринпоче и его учитель Лама Еше одними из первых среди тибетских лам в 1965 году начали преподавать буддизм ученикам из других стран. Ринпоче постоянно находился в дороге и посещал в течение года несколько стран\, даруя учения по буддийской Дхарме. \nЛама Сопа Ринпоче посещал Россию четыре раза: в 2003 году даровал учения по махаянской традиции\, в 2015 году даровал наставление по этапам пути к пробуждению (ламрим)\, в 2017 году даровал посвящение Будды Медицины\, в 2019 году возглавил в Калмыкии ретрит по начитыванию миллиона мантр ОМ МАНИ ПАДМЕ ХУМ. Позднее\, находясь в Сингапуре\, он прочитал обширный онлайн-курс по техникам преобразования ума специально для своих учеников из России. \nСердце Ламы Сопы Ринпоче остановилось в апреле 2023 года в монастыре Копан\, Непал. С одобрения Его Святейшества Далай-ламы было решено не кремировать тело\, а мумифицировать. В настоящее время идёт строительство ступы в монастыре Копан\, в которую будет помещено мумифицированное тело Ринпоче\, так оно продолжит приносить пользу ученикам Ламы Сопы Ринпоче со всего мира. \nВ избранное
URL:https://fpmt.ru/event/buddijskij-festival-blagoj-udachi/
ATTACH;FMTTYPE=image/webp:https://fpmt.ru/wp-content/uploads/2024/03/festival_blagoj_udachi_632x320_banner_1.webp
END:VEVENT
BEGIN:VEVENT
DTSTART;TZID=Europe/Moscow:20240407T170000
DTEND;TZID=Europe/Moscow:20240407T183000
DTSTAMP:20260425T161358
CREATED:20240331T180854Z
LAST-MODIFIED:20240331T180854Z
UID:30111-1712509200-1712514600@fpmt.ru
SUMMARY:Комментарий на текст «Бодхичарья-аватара» с геше Дакпой Джампой
DESCRIPTION:С 11 сентября стартует цикл учений нашего резидентного учителя геше-лхарамбы Дакпы Джампы\, который посвящен известному сочинению Шантидевы «Бодхичарья-аватара». Учения будут проходить на платформе Zoom каждое воскресенье в 17:00 по московскому времени. Предположительно цикл завершится в начале следующего года. \nО коренном тексте «Бодхичарья-аватара» \n«Бодхичарья-аватара»\, или «Путь бодхисаттвы»\, – это классическое произведение индийского наставника 8-го века Шантидевы\, посвященное взращиванию бодхичитты – устремления к пробуждению на благо всех живых существ. По сей день это сочинение считается одним из самых важных и выдающихся трудов буддийской традиции Махаяны. Только на санскрите к нему было составлено более ста комментариев\, из которых одиннадцать были переведены на тибетский язык. Впоследствии переводная комментаторская литература\, раскрывающая суть этого воистину удивительного по своей глубине сочинения\, дополнилась также многочисленными трудами тибетоязычных авторов. Сочинение состоит из десяти глав\, из которых первые восемь описывают преимущественно аспект метода\, девятая глава посвящена изложению аспекта мудрости\, а именно постижению бессамостности всех явлений\, согласно воззрению философской школы прасангика\, а десятая глава представляет собой молитву\, которая завершает это сочинение возвышенным благопожеланием духовных заслуг во имя Пробуждения на благо всех существ. \nО комментарии Гьялцап Чже на «Бодхичарья-аватару» \nВ рамках предстоящих учений\, которые будет даровать геше-лхарамба Дакпа Джампа\, мы будем опираться на комментарий Гьялцапа Дарма Ринчен (1364-1432)\, который после паринирваны досточтимого Ламы Цонкапы\, став его прямым духовным преемником\, встал во главе новой школы гелуг. Комментарий Гьялцапа Чже\, называющийся «Врата бодхисаттв» (тиб. spyod ‘jug gi rnam rgyal sras ‘jug ngogs)\, проливает свет на magnum opus Шантидевы\, проясняя каждую деталь и разрешая каждый трудный момент\, которые встречаются. Он\, несомненно\, является бесценным подспорьем для всех\, кто желает полного и глубокого понимания «Бодхичарья-аватары». \nКомментарий Гьялцапа сочетает в себе как выработанный веками традиционный подход к раскрытию сути текста\, так и уникальные взгляды досточтимого Чже Цонкапы на пустоту – окончательную природу реальности. Согласно традиционному подходу\, первые три главы текста объясняют\, как зародить в себе дух бодхичитты\, следующие три главы – как сохранить её\, а в послёдних трёх – как развить бодхичитту\, так\, чтобы она стала движущей силой в жизни. И как было сказано выше\, Гьялцап Чже приводит основные воззрения своего учителя Цонкапы о пустой природе всего сущего\, которые впоследствии в традиции гелук стали обозначаться как восемь особенностей системы прасангика (тиб. dbu ma thal ‘gyur ba’i thun mong ma yin pa’i bzhed pa brgyad). \nО резидентном учителе \n Геше-лхарамба Дакпа Джампа родился в Индии. Он принял полные монашеские обеты и стал гелонгом в 1992 году\, а в 2002 году\, после 20 лет учебы\, получил наивысшую учёную степень геше-лхарамбы (аналог доктора буддийской философии). Он также прошёл годичный курс обучения в тантрическом монастыре Гьюме. \nПоступив в монастырь в 1976 г.\, он на протяжении четырёх лет обучался под прямым руководством со стороны дост. геше Тенпа Гьялцена\, после чего началось его формальное образование\, с изучения теории сознания и познания лориг в 1983 г. Затем в течение он года изучал тагрик (теорию логики и дебатов)\, 7 лет – курсы по праджняпарамите (сутрам запредельной мудрости)\, 3 года – курсы по мадхьямаке (философии срединного пути)\, 4 года – курсы винайи (монашеской дисциплины) и абхидхармы (буддийской метафизики – теории элементов бытия\, дхарм)\, а также курс праманы (теории верного познания) – первую его часть\, параллельно с курсом праджняпарамиты\, а вторую часть – параллельно с курсом мадхьямаки. Затем он прошёл шестилетнюю программу Всегелугпинского экзаменационного совета\, учреждённую Гелугпинским университетом\, которую завершил в 2001 г. \nОн успешно выдержал экзамен на звание геше\, получив его высшую степень\, и ему в 2002 г. был присвоен титул геше-лхарамбы. \nПодробнее о биографии учителя. \nГде будут проходить занятия. \n Занятия будут происходить онлайн\, на платформе Zoom. Сам геше Джампа сейчас находится в Канаде. \nССЫЛКА ДЛЯ ПОДКЛЮЧЕНИЯ НА ЗАНЯТИЯ \nИдентификатор конференции: 868 6800 0274 \nКод доступа: 212099 \nПодношения \n Участие в курсе бесплатное\, и открыто для всех желающих. \n\nЗдесь можно сделать подношение учителю\nПодношение переводчику (пожалуйста\, обязательно укажите внизу в комментарии\, что это подношение для Чеченбая или за перевод лекций геше ДД).\n\nВ избранное
URL:https://fpmt.ru/event/070424/
CATEGORIES:Календарь сайта
ATTACH;FMTTYPE=image/jpeg:https://fpmt.ru/wp-content/uploads/2022/12/dizajn-bez-nazvaniya-7.jpg
END:VEVENT
BEGIN:VEVENT
DTSTART;TZID=Europe/Moscow:20240407T210000
DTEND;TZID=Europe/Moscow:20240407T220000
DTSTAMP:20260425T161358
CREATED:20240331T181653Z
LAST-MODIFIED:20240331T181653Z
UID:30124-1712523600-1712527200@fpmt.ru
SUMMARY:Чтения Манджушри Нама Самгити
DESCRIPTION:Его Святейшество Далай-лама даровал драгоценные наставления ученикам и последователям Ламы Сопы Ринпоче\, обратившимся к нему с вопросом о новом воплощении Ламы Сопы. Его Святейшество рекомендовал в течение ближайших нескольких месяцев непрерывно начитывать «Называние имен благородного Манджушри» для скорейшего возвращения реинкарнации Ринпоче. \nЦентр «Ганден Тендар Линг» приглашает присоединиться к совместному чтению этого драгоценного текста в специально созданной группе в Телеграм.  \n\n\nГруппа чтения «Манджушри Нама Самгити»\n\n \n«Мы обращаемся ко всем ученикам Ламы Сопы Ринпоче с просьбой непрерывно повторять этот текст как можно больше раз\, начиная с сегодняшнего дня. Через несколько месяцев к Его Святейшеству снова обратятся за советом»\, — сообщается на сайте Фонда. \nТексты практики \n— на русском языке\, \n— на английском языке. \nАудиозапись (лунг)\, где Лама Сопа Ринпоче читает «Называние имен Манджушри» можно послушать по ссылке. \nТекст письма из офиса Его Святейшества Далай-ламы: \n \n  \n  \n  \n«В ответ на просьбу учеников центров ФПМТ о проведении проверки по поводу скорейшего возвращения реинкарнации покинувшего этот мир Сопы Ринпоче\, получен следующий результат: пожалуйста\, непрерывно читайте «Имена Манджушри» (Джампал Тшен Джо)\, а через несколько месяцев вновь будет проведена проверка. \nОт Его Святейшества Далай-ламы \n18 октября 2023 г.» \n  \n  \n  \nНеделей ранее радостной новостью о подношении 458 статуй Будды Его Святейшеству Далай-ламе поделились в Копане. \n«У нас невероятно радостная новость! На прошлой неделе были поднесены оставшиеся 458 статуи Будды из 1000 статуй\, которые были изготовлены для долгой жизни Его Святейшества Далай-ламы\, первые из них были поднесены во время пуджи долгой жизни в мае 2023 года»\, — поделились организаторы. \nВ начале сентября несколько геше из монастыря Копан (Непал) отправились в медитационный центр «Тушита» в Маклеод Гандже\, чтобы принять статуи\, которые были доставлены на грузовике из Непала\, где они были изготовлены. Как только все статуи были доставлены\, геше Копана с большой заботой и радостью наполнили каждую статую\, провели обряд освящения\, и упаковали их\, чтобы они могли быть поднесены Его Святейшеству Далай-ламе. \nПосмотреть короткое видео о ходе работ по подготовке статуй можно по ссылке. \nПо завершении работ\, геше посетили офис Его Святейшества\, чтобы выяснить\, когда и как лучше всего поднести статуи\, и получили радостную новость о том\, что на следующий день каждый из них сможет поднести по одной статуэтке из подготовленных 458 лично Его Святейшеству. Это благоприятное подношение Его Святейшеству Далай-ламе монахами Копана было совершено от имени Ламы Сопы Ринпоче и всех учеников центров Ринпоче. Остальные статуи также были переданы Его Святейшеству. \nЛама Сопа Ринпоче отмечал\, что хотел бы\, чтобы подношение статуй Будды продолжалось и после подношения 1000 статуй. Ученики Ринпоче отмечают\, что с нетерпением ждут возможности выполнить эту просьбу. Поскольку Его Святейшество Далай-лама дарит статуи гостям и высокопоставленным лицам\, Лама Сопа Ринпоче хотел иметь возможность делать эти благоприятные подношения Его Святейшеству как можно дольше. \n  \nСердечная благодарность и сорадование всем\, кто сделал возможным это драгоценное подношение от имени Ламы Сопы Ринпоче.  \nВ избранное
URL:https://fpmt.ru/event/070424-2/
CATEGORIES:Календарь сайта
ATTACH;FMTTYPE=image/jpeg:https://fpmt.ru/wp-content/uploads/2023/10/whatsapp-image-2023-10-23-at-18.50.55.jpg
END:VEVENT
END:VCALENDAR