BEGIN:VCALENDAR
VERSION:2.0
PRODID:-//Ганден Тендар Линг - ECPv5.16.4//NONSGML v1.0//EN
CALSCALE:GREGORIAN
METHOD:PUBLISH
X-WR-CALNAME:Ганден Тендар Линг
X-ORIGINAL-URL:https://fpmt.ru
X-WR-CALDESC:Мероприятия для Ганден Тендар Линг
BEGIN:VTIMEZONE
TZID:Europe/Moscow
BEGIN:STANDARD
TZOFFSETFROM:+0300
TZOFFSETTO:+0300
TZNAME:MSK
DTSTART:20240101T000000
END:STANDARD
END:VTIMEZONE
BEGIN:VEVENT
DTSTART;TZID=Europe/Moscow:20240623T110000
DTEND;TZID=Europe/Moscow:20240623T130000
DTSTAMP:20260423T141324
CREATED:20240529T152559Z
LAST-MODIFIED:20240529T152559Z
UID:30456-1719140400-1719147600@fpmt.ru
SUMMARY:Геше Тензин Сопа дарует учения и устную передачу на «Средний ламрим» Чже Цонкапы
DESCRIPTION:Друзья\, мы вновь рады поделиться анонсом предстоящих больших и значимых учений! \nВ субботу\, 1 июня\, стартуют учения геше Тензина Сопы по важнейшему тексту Чже Цонкапы «Средний ламрим». \nКОГДА \nУчения будут проходить по субботам и воскресеньям в течение всего июня. Начало в 11:00 по-московскому времени. \nДля участия требуется пройти регистрацию. \n\n\nРЕГИСТРАЦИЯ\n\n \nУчения будут проходить в ZOOM с синхронным переводом на несколько языков\, включая русский. \nОрганизатор учений: Буддийский центр «Лонгку»\, Берн\, Швейцария. \nГеше Тензин Сопа родился в 1972 году в долине Цум в Непале. В 1990 году он поступил в университет Сера Чже для углубленного изучения тибетской буддийской философии\, а в 2007 году получил звание геше. \nПолучивший множество наград документальный фильм «Избранный» (Unmistaken Child) рассказывает о его пятилетних поисках признанной реинкарнации его покойного учителя. Геше Лама Кончог стал духовным и мирским опекуном Тензина Сопы\, когда ему было всего три года. С тех пор геше Лама Кончог передавал досточтимому Сопе комментарии к различным важным буддийским текстам сутры и тантры. Геше Тензин Сопа стал ближайшим учеником геше Ламы Кончога и был помощником и переводчиком до самой смерти своего учителя в 2001 году. Подробнее об учителе. \nЧже Цонкапа (1357–1419)\, основоположник школы гелуг тибетского буддизма. Ламрим-ченмо или «Большое руководство к этапам Пути Пробуждения» – его наиболее знаменитый труд\, где важнейшие идеи индо-тибетского буддизма изложены в форме систематического руководства\, подробнейшим образом описывающего весь путь духовного развития вплоть до достижения Пробуждения. \n«Средний Ламрим» – это сокращение «Большого руководства к этапам пути Пробуждения» («Большого Ламрима»)\, сделанное самим Цонкапой в 1415 г.\, через 13 лет после написания «Большого Ламрима». Если не считать исключенных автором мест и заново написанной части о проникновения\, он почти повторяет «Большое руководство…». \nУзнать больше о русскоязычном переводе текста и о приобретении книги можно на сайте переводческого проекта Фонда «Сохраним Тибет». \n! Обращаем внимание\, что завершилась работа по подготовке обновленной версии книги\, которая будет появится в продаже уже через месяц. Подробнее — в новостях на savetibet.ru \nПОДНОШЕНИЯ \nСделать подношение на организацию учений можно по ссылке ниже. Ваши пожертвования помогут покрыть расходы на перевод\, сделать подношение учителю\, а также покрыть технические расходы связанные с организацией учений. \n  \n\n\nСДЕЛАТЬ ПОДНОШЕНИЕ\n\n \nВ избранное
URL:https://fpmt.ru/event/230624/
CATEGORIES:Учения
ATTACH;FMTTYPE=image/jpeg:https://fpmt.ru/wp-content/uploads/2024/05/izobrazhenie-whatsapp-2024-05-29-v-13.01.49_48c1be30.jpg
END:VEVENT
BEGIN:VEVENT
DTSTART;TZID=Europe/Moscow:20240623T120000
DTEND;TZID=Europe/Moscow:20240623T140000
DTSTAMP:20260423T141324
CREATED:20240610T173348Z
LAST-MODIFIED:20240610T173348Z
UID:30571-1719144000-1719151200@fpmt.ru
SUMMARY:Интенсивный курс "Буддизм в двух словах" c досточтимой Тубтен Пелгье.
DESCRIPTION:Дата: 22-23 июня 2023 года \nМесто проведения: Ул. Павловская\, д. 18\, м. Тульская\, буддийский зал центра «Открытый мир». \nВремя занятий:\n22 июня в 12:00\n23 июня в 12:00 \nОписание Курса\n«Буддизм в двух словах» — это компактный и содержательный вводный курс\, идеально подходящий как для начинающих\, так и для тех\, кто уже имеет представление о буддийском учении. \nКурс позволит участникам:\n— Получить обзор основных концепций и практик тибетского буддизма.\n— Изучить жизнь Будды Шакьямуни\, четыре благородные истины и три аспекта пути к просветлению (отречение\, бодхичитта и правильный взгляд на пустоту). \nКурс основан на Ламриме и кратком тексте Ламы Цонкапы «Основы всех благих качеств». \nОб Учителе:\nДосточтимая Тубтен Пелгье\, сертифицированный учитель ФПМТ и ученица ламы Сопы Ринпоче\, известна своим глубоким пониманием буддизма и умением доходчиво объяснять его принципы. Она внесла неоценимый вклад в развитие московского центра и его учебных программ. \nОрганизационные Детали:\nОргвзнос: 950 рублей\, включающий все занятия и материалы. Возможность внесения частичного взноса или участия в программе в качестве волонтера. \nРегистрация: Необходимо зарегистрироваться для участия в курсе. \n\n\nРЕГИСТРАЦИЯ\n\n \nУсловия Участия:\nКурс открыт для всех\, кто интересуется буддизмом\, вне зависимости от уровня знаний. Ожидается уважительное отношение ко всем участникам и преподавателям\, а также активное участие в занятиях и освоении материалов. \nЗаключение:\nЭтот курс предлагает уникальную возможность погрузиться в мир буддизма или структурировать уже имеющиеся знания. Присоединяйтесь к нам для трех дней познавательных и вдохновляющих занятий. \nМатериал подготовлен Местной религиозной организацией «Буддийский Центр сохранения традиций махаяны «Ганден Тендар Линг». ОГРН 1107799015708 \nВ избранное
URL:https://fpmt.ru/event/230624-2/
LOCATION:Павловская улица\, 18. Центр «Открытый мир».
CATEGORIES:Календарь сайта
ATTACH;FMTTYPE=image/jpeg:https://fpmt.ru/wp-content/uploads/2024/05/3333.jpg
END:VEVENT
BEGIN:VEVENT
DTSTART;TZID=Europe/Moscow:20240623T210000
DTEND;TZID=Europe/Moscow:20240623T220000
DTSTAMP:20260423T141324
CREATED:20240616T100303Z
LAST-MODIFIED:20240616T100303Z
UID:30613-1719176400-1719180000@fpmt.ru
SUMMARY:Чтения Манджушри Нама Самгити
DESCRIPTION:Его Святейшество Далай-лама даровал драгоценные наставления ученикам и последователям Ламы Сопы Ринпоче\, обратившимся к нему с вопросом о новом воплощении Ламы Сопы. Его Святейшество рекомендовал в течение ближайших нескольких месяцев непрерывно начитывать «Называние имен благородного Манджушри» для скорейшего возвращения реинкарнации Ринпоче. \nЦентр «Ганден Тендар Линг» приглашает присоединиться к совместному чтению этого драгоценного текста в специально созданной группе в Телеграм.  \n\n\nГруппа чтения «Манджушри Нама Самгити»\n\n \n«Мы обращаемся ко всем ученикам Ламы Сопы Ринпоче с просьбой непрерывно повторять этот текст как можно больше раз\, начиная с сегодняшнего дня. Через несколько месяцев к Его Святейшеству снова обратятся за советом»\, — сообщается на сайте Фонда. \nТексты практики \n— на русском языке\, \n— на английском языке. \nАудиозапись (лунг)\, где Лама Сопа Ринпоче читает «Называние имен Манджушри» можно послушать по ссылке. \nТекст письма из офиса Его Святейшества Далай-ламы: \n \n  \n  \n  \n«В ответ на просьбу учеников центров ФПМТ о проведении проверки по поводу скорейшего возвращения реинкарнации покинувшего этот мир Сопы Ринпоче\, получен следующий результат: пожалуйста\, непрерывно читайте «Имена Манджушри» (Джампал Тшен Джо)\, а через несколько месяцев вновь будет проведена проверка. \nОт Его Святейшества Далай-ламы \n18 октября 2023 г.» \n  \n  \n  \nНеделей ранее радостной новостью о подношении 458 статуй Будды Его Святейшеству Далай-ламе поделились в Копане. \n«У нас невероятно радостная новость! На прошлой неделе были поднесены оставшиеся 458 статуи Будды из 1000 статуй\, которые были изготовлены для долгой жизни Его Святейшества Далай-ламы\, первые из них были поднесены во время пуджи долгой жизни в мае 2023 года»\, — поделились организаторы. \nВ начале сентября несколько геше из монастыря Копан (Непал) отправились в медитационный центр «Тушита» в Маклеод Гандже\, чтобы принять статуи\, которые были доставлены на грузовике из Непала\, где они были изготовлены. Как только все статуи были доставлены\, геше Копана с большой заботой и радостью наполнили каждую статую\, провели обряд освящения\, и упаковали их\, чтобы они могли быть поднесены Его Святейшеству Далай-ламе. \nПосмотреть короткое видео о ходе работ по подготовке статуй можно по ссылке. \nПо завершении работ\, геше посетили офис Его Святейшества\, чтобы выяснить\, когда и как лучше всего поднести статуи\, и получили радостную новость о том\, что на следующий день каждый из них сможет поднести по одной статуэтке из подготовленных 458 лично Его Святейшеству. Это благоприятное подношение Его Святейшеству Далай-ламе монахами Копана было совершено от имени Ламы Сопы Ринпоче и всех учеников центров Ринпоче. Остальные статуи также были переданы Его Святейшеству. \nЛама Сопа Ринпоче отмечал\, что хотел бы\, чтобы подношение статуй Будды продолжалось и после подношения 1000 статуй. Ученики Ринпоче отмечают\, что с нетерпением ждут возможности выполнить эту просьбу. Поскольку Его Святейшество Далай-лама дарит статуи гостям и высокопоставленным лицам\, Лама Сопа Ринпоче хотел иметь возможность делать эти благоприятные подношения Его Святейшеству как можно дольше. \n  \nСердечная благодарность и сорадование всем\, кто сделал возможным это драгоценное подношение от имени Ламы Сопы Ринпоче.  \nВ избранное
URL:https://fpmt.ru/event/230624-3/
CATEGORIES:Календарь сайта
ATTACH;FMTTYPE=image/jpeg:https://fpmt.ru/wp-content/uploads/2023/10/whatsapp-image-2023-10-23-at-18.50.55.jpg
END:VEVENT
END:VCALENDAR