BEGIN:VCALENDAR
VERSION:2.0
PRODID:-//Ганден Тендар Линг - ECPv5.16.4//NONSGML v1.0//EN
CALSCALE:GREGORIAN
METHOD:PUBLISH
X-WR-CALNAME:Ганден Тендар Линг
X-ORIGINAL-URL:https://fpmt.ru
X-WR-CALDESC:Мероприятия для Ганден Тендар Линг
BEGIN:VTIMEZONE
TZID:Europe/Moscow
BEGIN:STANDARD
TZOFFSETFROM:+0300
TZOFFSETTO:+0300
TZNAME:MSK
DTSTART:20240101T000000
END:STANDARD
END:VTIMEZONE
BEGIN:VEVENT
DTSTART;TZID=Europe/Moscow:20240629T110000
DTEND;TZID=Europe/Moscow:20240629T130000
DTSTAMP:20260423T234956
CREATED:20240529T152701Z
LAST-MODIFIED:20240529T152701Z
UID:30458-1719658800-1719666000@fpmt.ru
SUMMARY:Геше Тензин Сопа дарует учения и устную передачу на «Средний ламрим» Чже Цонкапы
DESCRIPTION:Друзья\, мы вновь рады поделиться анонсом предстоящих больших и значимых учений! \nВ субботу\, 1 июня\, стартуют учения геше Тензина Сопы по важнейшему тексту Чже Цонкапы «Средний ламрим». \nКОГДА \nУчения будут проходить по субботам и воскресеньям в течение всего июня. Начало в 11:00 по-московскому времени. \nДля участия требуется пройти регистрацию. \n\n\nРЕГИСТРАЦИЯ\n\n \nУчения будут проходить в ZOOM с синхронным переводом на несколько языков\, включая русский. \nОрганизатор учений: Буддийский центр «Лонгку»\, Берн\, Швейцария. \nГеше Тензин Сопа родился в 1972 году в долине Цум в Непале. В 1990 году он поступил в университет Сера Чже для углубленного изучения тибетской буддийской философии\, а в 2007 году получил звание геше. \nПолучивший множество наград документальный фильм «Избранный» (Unmistaken Child) рассказывает о его пятилетних поисках признанной реинкарнации его покойного учителя. Геше Лама Кончог стал духовным и мирским опекуном Тензина Сопы\, когда ему было всего три года. С тех пор геше Лама Кончог передавал досточтимому Сопе комментарии к различным важным буддийским текстам сутры и тантры. Геше Тензин Сопа стал ближайшим учеником геше Ламы Кончога и был помощником и переводчиком до самой смерти своего учителя в 2001 году. Подробнее об учителе. \nЧже Цонкапа (1357–1419)\, основоположник школы гелуг тибетского буддизма. Ламрим-ченмо или «Большое руководство к этапам Пути Пробуждения» – его наиболее знаменитый труд\, где важнейшие идеи индо-тибетского буддизма изложены в форме систематического руководства\, подробнейшим образом описывающего весь путь духовного развития вплоть до достижения Пробуждения. \n«Средний Ламрим» – это сокращение «Большого руководства к этапам пути Пробуждения» («Большого Ламрима»)\, сделанное самим Цонкапой в 1415 г.\, через 13 лет после написания «Большого Ламрима». Если не считать исключенных автором мест и заново написанной части о проникновения\, он почти повторяет «Большое руководство…». \nУзнать больше о русскоязычном переводе текста и о приобретении книги можно на сайте переводческого проекта Фонда «Сохраним Тибет». \n! Обращаем внимание\, что завершилась работа по подготовке обновленной версии книги\, которая будет появится в продаже уже через месяц. Подробнее — в новостях на savetibet.ru \nПОДНОШЕНИЯ \nСделать подношение на организацию учений можно по ссылке ниже. Ваши пожертвования помогут покрыть расходы на перевод\, сделать подношение учителю\, а также покрыть технические расходы связанные с организацией учений. \n  \n\n\nСДЕЛАТЬ ПОДНОШЕНИЕ\n\n \nВ избранное
URL:https://fpmt.ru/event/290624/
CATEGORIES:Учения
ATTACH;FMTTYPE=image/jpeg:https://fpmt.ru/wp-content/uploads/2024/05/izobrazhenie-whatsapp-2024-05-29-v-13.01.49_48c1be30.jpg
END:VEVENT
BEGIN:VEVENT
DTSTART;TZID=Europe/Moscow:20240629T110000
DTEND;TZID=Europe/Moscow:20240629T150000
DTSTAMP:20260423T234956
CREATED:20240624T150955Z
LAST-MODIFIED:20240624T150955Z
UID:30663-1719658800-1719673200@fpmt.ru
SUMMARY:Мастерская Ца-ца (отливка/окрашивание)
DESCRIPTION:Друзья\, хотим поделиться с вами радостными событиями. Мастерская обрела постоянное место и обосновалась в новом очень удобном для практики помещении. Мы расположились прямо под Буддийским Залом\, на первом этаже\, буквально у стоп учителей\, будд и бодхисаттв. Это для нас очень радостное событие и мы надеемся\, что это позволит нам ещё больше участвовать в распространении Дхармы через Практику Ца-Ца. Мы планируем не только по-прежнему обучать технике изготовления Ца-Ца всех желающих\, а также продолжим делать Ца-Ца для закладки в строящиеся Ступы\, делать индивидуальные Ца-Ца для тех\, кто болен или испытывает трудности\, для умерших\, чтобы помочь им обрести благое перерождение. Мы планируем проводить 1-2 дневные ретриты по практике божеств\, включающей изготовление Ца-Ца этого божества. Мы мечтаем о детских программах изготовления/окрашивания Ца-ЦА. Практика ЦА-ЦА невозможна в онлайне\, поэтому мы надеемся\, что наша новая Мастерская никогда не будет пустовать.\nМы очень благодарны руководителям центра Ганден Тендар Линг за то\, что в наше непростое время\, с кучей рисков и сложностей\, для Мастерской всё же сняли помещение. Друзья\, приходите к нам! \n\n\n\n\n\n\n\nВ будние дни участие за свободное подношение.\nВ выходные дни: рекомендованное подношение — 800 рублей\, для школьников\, студентов и пенсионеров — 400 руб. Дошкольники могут свободно приходить с родителями. \nВ Мастерской открывается Детская студия по окрашиванию Ца-Ца. Мы приглашаем родителей с детишками прикоснуться к миру Ца-Ца. Созерцание священных образов оставляет глубокие отпечатки в уме как взрослых\, так и детей\, а также пробуждает в уме ребёнка отпечатки из прошлых жизней\, которые могут помочь ребёнку встать на Путь Дхармы. В Мастерской есть всё необходимое — краски\, кисти и готовые для окрашивания Ца-Ца — как простых форм\, так и более сложных. Окрашивание возможно в один цвет золотом или ведущие помогут подобрать цвета для художественного окрашивания. Любые окрашенные Ца-Ца вы сможете взять себе.\nРекомендованное подношение — 800 рублей со взрослого\, 400 рублей — для школьников\, дошкольники могут приходить с родителями свободно. \nКак обычно\, запись на занятия осуществляется через регистрационную форму\, \n\n\n\n\n\n\n\n\nили через чат в Телеграм-канале: \nМастерская Tsa-Tsa\n\n\n\n\n\n\nВложения\n\n\nЛама Сопа Ринпоче о практике Ца-Ца:\nЭта практика один из самых мощных способов очистить препятствия и накопить обширные заслуги.\nДаже уже в этой жизни вы будете меньше болеть\, будет больше радостей\, у вас будет долгая жизнь и хорошая репутация. Это лучший способ обмануть смерть. Изготовление Ца-Ца помогает преодолеть препятствия\, плохие условия\, предотвратить несчастные случаи и внезапные заболевания\, такие как сердечные приступы и параличи. Делая Ца-Ца\, вы умиротворяете врагов\, недоброжелателей и тех\, кто вредит. Вы накапливаете все заслуги\, очищаете все омрачения и в результате достигнете три кайи в следующей жизни. \nПодробная информация о практике Ца-Ца. \nАдрес: г. Москва\, Нахимовский проспект\, 32. Этаж 10\, каб.1023\nКак нас найти: метро Профсоюзная\, последний вагон из центра\, 8 выход\, дойти до Нахимовского проспекта\, повернуть на него налево и идти метров 500 до Института Китая и стран Азии РАН. Зайти во двор\, в 1 подъезд\, 10 этаж\, из лифта направо\, 23 кабинет в конце коридора.\nОхране сказать\, что в Мастерскую Ца-ца. \n\nВ избранное
URL:https://fpmt.ru/event/290624-3/
LOCATION:Москва\, Нахимовский пр\, 32\, Нахимовский пр\, 32\, Москва\, Москва\, Российская Федерация
CATEGORIES:Календарь сайта,Практики
ATTACH;FMTTYPE=image/jpeg:https://fpmt.ru/wp-content/uploads/2021/08/SHablon_dlya_sajta_1920h1080_-_2021-08-29T164000.417.jpg
ORGANIZER;CN="%D0%A6%D0%B5%D0%BD%D1%82%D1%80%20%22%D0%93%D0%B0%D0%BD%D0%B4%D0%B5%D0%BD%20%D0%A2%D0%B5%D0%BD%D0%B4%D0%B0%D1%80%20%D0%9B%D0%B8%D0%BD%D0%B3%22":MAILTO:tsa-tsa@fpmt.ru
END:VEVENT
BEGIN:VEVENT
DTSTART;TZID=Europe/Moscow:20240629T120000
DTEND;TZID=Europe/Moscow:20240629T183000
DTSTAMP:20260423T234956
CREATED:20240627T045805Z
LAST-MODIFIED:20240628T145440Z
UID:30672-1719662400-1719685800@fpmt.ru
SUMMARY:Ретрит модуля «Обзор пути» в рамках программы «Открытие буддизма» - отмена
DESCRIPTION:Друзья\, сожалеем\, но по причине плохого самочувствия дост. Тубтен Пелгье мы вынуждены сообщить об отмене занятия программы «Открытие буддизма» сегодня\, 28 июня. \nРетрит\, запланированный на завтра\, тоже переносится на другой день. \nНовые даты мы сообщим дополнительно. \nПриносим извинения за неудобства всем участникам модуля\, и желаем скорейшего выздоровления дост. Пелгье! \nПриглашаем на 3-й модуль «Обзор пути» программы «Открытие Буддизма» \nДата и время: с 31 мая по 29 июня 2024 г. \nЗанятия по пятницам\, начало в 19:30 (время московское). \nМесто проведения: очно в московском центре «Ганден Тендар Линг»\, ул. Павловская\, д. 18\, м. Тульская\, буддийский зал и онлайн в Zoom. \nЭто третий модуль курса «Открытие Буддизма»\, состоящего из 14 модулей\, в рамках которого участники получают структурированные знания о философии и практике буддизма. \nИз чего состоит духовый путь? На какие этапы он делится? И как его понять и практиковать? Эти и многие другие вопросы мы разберем на предстоящем образовательном модуле «Обзор пути» программы «Открытие буддизма». Буддийская монахиня тибетской традиции\, сертифицированный учитель ФПМТ\, Дост. Пелгье\, чьи учения отличаются ясностью и глубиной\, даст целостный обзор духовного пути\, которому учил Будда. \nПрограмма модуля \nОрганизационное собрание: 31 мая в 19:30. \nЕженедельные занятия: 7\, 14\, 21\, 28 июня в 19:30. \nОднодневный ретрит: 29 июня. \nПрограмма предполагает выполнение домашних заданий\, в ходе которых слушатели знакомятся с обязательными и дополнительными учебными материалами\, а также выполняют пройденные на семинарах медитации. \nВедущая модуля \n \nДосточтимая Тубтен Пелгье — сертифицированный учитель ФПМТ и ученица ламы Сопы Ринпоче. Многие из вас уже знакомы с досточтимой Пелгье\, участвовали вместе с ней в ретритах по практике ньюнгне\, проходили предыдущие модули курса «Открытие буддизма» а также помните ее многолетнее активное и трудолюбивое волонтерское участие в работе московского центра. Досточтимая Пелгье являет собой тот самый пример\, когда углубленное изучение и практика буддизма преобразуют весь жизненный путь. \nОргвзнос \nРекомендуемый оргвзнос составляет 3500 рублей. Включает все занятия и материалы. Внести оргвзнос можно после регистрации или в ходе модуля. Если внести взнос в полном объеме для вас затруднительно\, можно внести его позднее или частично\, или внести ваш вклад в развитие учебной программы волонтерской помощью. Главное – ваше желание изучать Дхарму. При возникновении трудностей с внесением полной или частичной суммы оргвзноса напишите нам на spc@fpmt.ru. \nУсловия прохождения модуля \nУчастие в модуле открыто для всех желающих вне зависимости от глубины познаний буддизма. От участников требуется уважительное отношение друг к другу\, к организаторам\, учителям и самому Учению Будды\, а также прилежность при посещении занятий и освоении учебных материалов. \nРегистрация \nДля участия необходима регистрация. \n\n\nРЕГИСТРАЦИЯ\n\n \nВ ходе модуля участники будут получать домашние задания\, а также материалы для самостоятельного изучения. \nПройдя регистрацию\, вы получите письмо с первыми ознакомительными материалами для подготовки: 25-минутным фильмом курса «Открытие Буддизма» к данному модулю и несколькими полезными учениями. \nТакже в письме вы найдете ссылку для внесения оргвзноса. \nЕсли у вас остались вопросы или появились предложения\, пожалуйста\, напишите на spc@fpmt.ru \n Подробнее о модуле \nЭтот модуль предлагает студентам целостный обзор духовного пути\, которому учил Будда. В Тибете путь Будды был логически упорядочен\, так что его просто понять и практиковать. Всё\, чему учил Будда\, приводится в правильной последовательности\, с точки зрения развития ума отдельно взятого человека. Этот вид учений\, известный в Тибете как «этапы пути к просветлению» (ламрим) присутствует во всех основных традициях тибетского буддизма. \nОбучаясь на курсе\, \nвы получите ясное понимание пути к просветлению\, в частности трёх основных его составляющих: отречения\, бодхичитты и правильного воззрения – пустоты. Вы изучите поэтапное\, похожее на лестницу\, устройство ламрима\, узнаете о трёх уровнях мотивации\, сравните их со своим нынешним духовным развитием и поймете\, что вам следует делать дальше\, и как вы можете достичь просветления. \nЧто такое «Открытие Буддизма»? \nКурс опирается на рекомендации и наставления Его Святейшества Далай-ламы\, ламы Еше и ламы Сопы Ринпоче\, а также их учеников\, представляющих тибетскую буддийскую традицию Махаяны. Программа «Открытие буддизма» предназначена для комплексного освоения теории и практики индо-тибетской традиции буддизма. Главная цель программы — предоставление участникам прочной основы для практики буддизма Махаяны. Занимаясь по программе\, студенты могут получить прикладное понимание учений Будды\, получить серьезный опыт практики\, как в повседневной жизни\, так и в ретрите\, установить прямой контакт с учителями — носителями традиции Махаяны\, и духовными друзьями на пути. \nС 2011 года адаптированный для России курс прошли несколько сотен участников. Программа состоит из 14 модулей. Каждый модуль посвящен одному из аспектов буддийского учения. Их можно изучать как последовательно\, так и по отдельности\, присоединяясь к курсу на любом модуле. \nДо встречи на занятиях! \n  \nВ избранное
URL:https://fpmt.ru/event/290624-4/
CATEGORIES:Календарь сайта,Открытие Буддизма
ATTACH;FMTTYPE=image/jpeg:https://fpmt.ru/wp-content/uploads/2024/05/1111.jpg
END:VEVENT
BEGIN:VEVENT
DTSTART;TZID=Europe/Moscow:20240629T210000
DTEND;TZID=Europe/Moscow:20240629T220000
DTSTAMP:20260423T234956
CREATED:20240623T154302Z
LAST-MODIFIED:20240623T154302Z
UID:30644-1719694800-1719698400@fpmt.ru
SUMMARY:Чтения Манджушри Нама Самгити
DESCRIPTION:Его Святейшество Далай-лама даровал драгоценные наставления ученикам и последователям Ламы Сопы Ринпоче\, обратившимся к нему с вопросом о новом воплощении Ламы Сопы. Его Святейшество рекомендовал в течение ближайших нескольких месяцев непрерывно начитывать «Называние имен благородного Манджушри» для скорейшего возвращения реинкарнации Ринпоче. \nЦентр «Ганден Тендар Линг» приглашает присоединиться к совместному чтению этого драгоценного текста в специально созданной группе в Телеграм.  \n\n\nГруппа чтения «Манджушри Нама Самгити»\n\n \n«Мы обращаемся ко всем ученикам Ламы Сопы Ринпоче с просьбой непрерывно повторять этот текст как можно больше раз\, начиная с сегодняшнего дня. Через несколько месяцев к Его Святейшеству снова обратятся за советом»\, — сообщается на сайте Фонда. \nТексты практики \n— на русском языке\, \n— на английском языке. \nАудиозапись (лунг)\, где Лама Сопа Ринпоче читает «Называние имен Манджушри» можно послушать по ссылке. \nТекст письма из офиса Его Святейшества Далай-ламы: \n \n  \n  \n  \n«В ответ на просьбу учеников центров ФПМТ о проведении проверки по поводу скорейшего возвращения реинкарнации покинувшего этот мир Сопы Ринпоче\, получен следующий результат: пожалуйста\, непрерывно читайте «Имена Манджушри» (Джампал Тшен Джо)\, а через несколько месяцев вновь будет проведена проверка. \nОт Его Святейшества Далай-ламы \n18 октября 2023 г.» \n  \n  \n  \nНеделей ранее радостной новостью о подношении 458 статуй Будды Его Святейшеству Далай-ламе поделились в Копане. \n«У нас невероятно радостная новость! На прошлой неделе были поднесены оставшиеся 458 статуи Будды из 1000 статуй\, которые были изготовлены для долгой жизни Его Святейшества Далай-ламы\, первые из них были поднесены во время пуджи долгой жизни в мае 2023 года»\, — поделились организаторы. \nВ начале сентября несколько геше из монастыря Копан (Непал) отправились в медитационный центр «Тушита» в Маклеод Гандже\, чтобы принять статуи\, которые были доставлены на грузовике из Непала\, где они были изготовлены. Как только все статуи были доставлены\, геше Копана с большой заботой и радостью наполнили каждую статую\, провели обряд освящения\, и упаковали их\, чтобы они могли быть поднесены Его Святейшеству Далай-ламе. \nПосмотреть короткое видео о ходе работ по подготовке статуй можно по ссылке. \nПо завершении работ\, геше посетили офис Его Святейшества\, чтобы выяснить\, когда и как лучше всего поднести статуи\, и получили радостную новость о том\, что на следующий день каждый из них сможет поднести по одной статуэтке из подготовленных 458 лично Его Святейшеству. Это благоприятное подношение Его Святейшеству Далай-ламе монахами Копана было совершено от имени Ламы Сопы Ринпоче и всех учеников центров Ринпоче. Остальные статуи также были переданы Его Святейшеству. \nЛама Сопа Ринпоче отмечал\, что хотел бы\, чтобы подношение статуй Будды продолжалось и после подношения 1000 статуй. Ученики Ринпоче отмечают\, что с нетерпением ждут возможности выполнить эту просьбу. Поскольку Его Святейшество Далай-лама дарит статуи гостям и высокопоставленным лицам\, Лама Сопа Ринпоче хотел иметь возможность делать эти благоприятные подношения Его Святейшеству как можно дольше. \n  \nСердечная благодарность и сорадование всем\, кто сделал возможным это драгоценное подношение от имени Ламы Сопы Ринпоче.  \nВ избранное
URL:https://fpmt.ru/event/290624-2/
CATEGORIES:Календарь сайта
ATTACH;FMTTYPE=image/jpeg:https://fpmt.ru/wp-content/uploads/2023/10/whatsapp-image-2023-10-23-at-18.50.55.jpg
END:VEVENT
END:VCALENDAR