BEGIN:VCALENDAR
VERSION:2.0
PRODID:-//Ганден Тендар Линг - ECPv5.16.4//NONSGML v1.0//EN
CALSCALE:GREGORIAN
METHOD:PUBLISH
X-WR-CALNAME:Ганден Тендар Линг
X-ORIGINAL-URL:https://fpmt.ru
X-WR-CALDESC:Мероприятия для Ганден Тендар Линг
BEGIN:VTIMEZONE
TZID:Europe/Moscow
BEGIN:STANDARD
TZOFFSETFROM:+0300
TZOFFSETTO:+0300
TZNAME:MSK
DTSTART:20240101T000000
END:STANDARD
END:VTIMEZONE
BEGIN:VEVENT
DTSTART;TZID=Europe/Moscow:20240706T180000
DTEND;TZID=Europe/Moscow:20240706T200000
DTSTAMP:20260424T123648
CREATED:20240704T163355Z
LAST-MODIFIED:20240704T163355Z
UID:30742-1720288800-1720296000@fpmt.ru
SUMMARY:День рождения Его Святейшества Далай-ламы в Москве.
DESCRIPTION:Празднование состоится 6 июля в 18:00 на территории Буддийского храма «Тубден Шедрублинг» в Отрадном на фоне великолепной ступы Просветления. Будем искренне рады всем участникам!\n\n\n\n\nРЕГИСТРАЦИЯ\n\n \nЕсли вы уже прошли регистрацию\, ваша регистрация действительна. \nБуддийский храм «Тубден Шедрублинг» расположен по адресу: Нововладыкинский проезд\, вл. 15\, метро «Владыкино». \nФонд «Сохраним Тибет» и Буддийский храм «Тубден Шедрублинг» при поддержке Буддийского центра «Ганден Тендар Линг»\, Фонда «Дрепунг Гоманг Центр» и Центра тибетской культуры и информации\, имеют честь пригласить вас 6 июля на праздничный вечер по случаю дня рождения духовного лидера тибетского буддизма Его Святейшества Далай-ламы XIV\, которому исполняется 89 лет. Празднование состоится 6 июля в 18:00 на территории Буддийского храма «Тубден Шедрублинг» в Отрадном. \nКак вы знаете\, в этом году в день своего рождения Его Святейшество будет проходить курс лечения\, и буддисты многих стран мира сейчас молятся о его здоровье\, долголетии и благоденствии. \nЕго Святейшество Далай-лама – источник счастья и духовного продвижения бесконечного множества живых существ. День его рождения всегда радостью и волнением отзывается в наших сердцах\, и мы приглашаем вас вместе с нами прочитать молитвы о его здоровье и посвятить заслуги его долголетию\, исполнению всех его чаяний и благих начинаний. Мы также посвятим заслуги тому\, чтобы все живые существа во всех мирах пребывали в мире и счастье и как можно скорее достигли полного и окончательного пробуждения. \nПрограмма\n• Молебен монахов Буддийского храма «Тубден Шедрублинг» во главе с председателем Центрального духовного управлени буддистов (ЦДУБ) геше Йонтена. \nДалее по наставлению геше Дордже Дамдула\, директора Тибетского дома в Нью-Дели – культурного представительства Его Святейшества Далай-ламы\, мы вместе на русском языке прочитаем следующие молитвы\, посвятив заслуги здоровью и долголетию Его Святейшества Далай-ламы: \n• Предварительные молитвы. Строфы для размышления о пустоте и взаимозависимости.\n• Сутра сердца праджняпарамиты.\n• Молитва о зажжении трех видов веры. Обращение к семнадцати пандитам Наланды\, составленное Его Святейшеством Далай-ламой.\n• Дже Цонкапа. Основа всех благих достоинств.\n• Молитва о долголетии Его Святейшества Далай-ламы.\n• Начитывание мантры Будды Медицины.\n• Посвящение заслуг. \nТексты молитвенных обращений на русском языке будут предоставлены всем участникам вечера. \n• Презентация русскоязычной версии книжной серии «Библиотека тибетской классики»\, созданной по личному благословению Его Святейшества Далай-ламы». Первая книга серии\, опубликованная в этом году на русском языке: Кхедруб Норсанг Гьяцо. Украшение безупречного света. Изложение Калачакра-тантры. (М.: Фонд «Сохраним Тибет»\, 2024.) Подробнее о книге. \n• Праздничное угощение. \n﻿ \nПодношение музыки Его Святейшеству Далай-ламе\n• Музыкальное подношение от артистов буддийских регионов России. \n• Молитвы на калмыцком языке в исполнии геше Йонтена \n• Музыкальное подношение от группы «Ensemble Suffiks» \nEnsemble Suffiks играет авторскую музыку в стиле world music / ethno fusion\, сочетая звуки аутентичных восточных инструментов\, таких как дудук\, аль-уд\, кларнет\, саз\, альт и современных (ханг\, хрустальная арфа)\, а также арабского вокала.\nEnsemble Suffiks – это дивный орнамент из разнообразных мелодий и медитативных ритмов древних традиций Востока.\nEnsemble Suffiks – это прежде всего неповторимая встреча с самим собой через музыку. \n \nИльдар Шаймярдянов (Ildar Sh) — художественный руководитель\, автор и исполнитель в стиле ethno fusion\, world music на красивейшем и самом молодом инструменте планеты — hang drum\, а также дудуке\, сазе и хрустальной арфе. Сотрудничество: Сати Казанова\, Валерия\, Дживан Гаспарян\, Зара\, театр О. Табакова\, гр. Браво\, Бурито\, Зуля Камалова и другие проекты. \nБулат Равилов — уд\, гитара\, дудук. Играет на восточной лютне — уде\, сочетая в коллективе «Suffiks» традиции и современную музыку. \nСергей Нанкин — кларнет. Выпускник Московской Консерватории. Сотрудничает с известными джазовыми и этническими музыкантами. \nГофран Зейно играет классические европейские и восточные мелодии\, импровизирует и поёт на арабском языке. Носитель музыкальной культуры Востока. Родилась в Сирии\, с раннего детства училась арабской музыке у своего отца\, затем продолжила образование на музыкальном факультете университета AlBaath. 7 лет назад приехала в Россию по стипендии изучать музыкознание. Академические занятия в аспирантуре сочетает с практикой\, участвовала в этническом ансамбле «Алькантара»\, осваивает индийскую музыку в составе группы DEVI\, играет и поет традиционные арабские песни в ансамбле «Suffiks». \nИльнар Галиаскаров — барабаны\, перкуссия. Учился в Петербурге на эстрадном отделении у ведущих педагогов по барабанам. Постоянный участник проекта Сати Этника. \nНатали Прохорова (Nataly Preciosa) — бендир\, дарбука\, гунгру. Училась перкуссии у всемирно известных мастеров. Разукрашивает мелодию Света\, создаваемую коллективом «Suffiks» космическими ритмами Вселенной. \n \n\n\n\nВ избранное
URL:https://fpmt.ru/event/060724-2/
ATTACH;FMTTYPE=image/jpeg:https://fpmt.ru/wp-content/uploads/2024/07/1n.jpg
END:VEVENT
BEGIN:VEVENT
DTSTART;TZID=Europe/Moscow:20240706T210000
DTEND;TZID=Europe/Moscow:20240706T220000
DTSTAMP:20260424T123648
CREATED:20240629T145952Z
LAST-MODIFIED:20240629T145952Z
UID:30692-1720299600-1720303200@fpmt.ru
SUMMARY:Чтения Манджушри Нама Самгити
DESCRIPTION:Его Святейшество Далай-лама даровал драгоценные наставления ученикам и последователям Ламы Сопы Ринпоче\, обратившимся к нему с вопросом о новом воплощении Ламы Сопы. Его Святейшество рекомендовал в течение ближайших нескольких месяцев непрерывно начитывать «Называние имен благородного Манджушри» для скорейшего возвращения реинкарнации Ринпоче. \nЦентр «Ганден Тендар Линг» приглашает присоединиться к совместному чтению этого драгоценного текста в специально созданной группе в Телеграм.  \n\n\nГруппа чтения «Манджушри Нама Самгити»\n\n \n«Мы обращаемся ко всем ученикам Ламы Сопы Ринпоче с просьбой непрерывно повторять этот текст как можно больше раз\, начиная с сегодняшнего дня. Через несколько месяцев к Его Святейшеству снова обратятся за советом»\, — сообщается на сайте Фонда. \nТексты практики \n— на русском языке\, \n— на английском языке. \nАудиозапись (лунг)\, где Лама Сопа Ринпоче читает «Называние имен Манджушри» можно послушать по ссылке. \nТекст письма из офиса Его Святейшества Далай-ламы: \n \n  \n  \n  \n«В ответ на просьбу учеников центров ФПМТ о проведении проверки по поводу скорейшего возвращения реинкарнации покинувшего этот мир Сопы Ринпоче\, получен следующий результат: пожалуйста\, непрерывно читайте «Имена Манджушри» (Джампал Тшен Джо)\, а через несколько месяцев вновь будет проведена проверка. \nОт Его Святейшества Далай-ламы \n18 октября 2023 г.» \n  \n  \n  \nНеделей ранее радостной новостью о подношении 458 статуй Будды Его Святейшеству Далай-ламе поделились в Копане. \n«У нас невероятно радостная новость! На прошлой неделе были поднесены оставшиеся 458 статуи Будды из 1000 статуй\, которые были изготовлены для долгой жизни Его Святейшества Далай-ламы\, первые из них были поднесены во время пуджи долгой жизни в мае 2023 года»\, — поделились организаторы. \nВ начале сентября несколько геше из монастыря Копан (Непал) отправились в медитационный центр «Тушита» в Маклеод Гандже\, чтобы принять статуи\, которые были доставлены на грузовике из Непала\, где они были изготовлены. Как только все статуи были доставлены\, геше Копана с большой заботой и радостью наполнили каждую статую\, провели обряд освящения\, и упаковали их\, чтобы они могли быть поднесены Его Святейшеству Далай-ламе. \nПосмотреть короткое видео о ходе работ по подготовке статуй можно по ссылке. \nПо завершении работ\, геше посетили офис Его Святейшества\, чтобы выяснить\, когда и как лучше всего поднести статуи\, и получили радостную новость о том\, что на следующий день каждый из них сможет поднести по одной статуэтке из подготовленных 458 лично Его Святейшеству. Это благоприятное подношение Его Святейшеству Далай-ламе монахами Копана было совершено от имени Ламы Сопы Ринпоче и всех учеников центров Ринпоче. Остальные статуи также были переданы Его Святейшеству. \nЛама Сопа Ринпоче отмечал\, что хотел бы\, чтобы подношение статуй Будды продолжалось и после подношения 1000 статуй. Ученики Ринпоче отмечают\, что с нетерпением ждут возможности выполнить эту просьбу. Поскольку Его Святейшество Далай-лама дарит статуи гостям и высокопоставленным лицам\, Лама Сопа Ринпоче хотел иметь возможность делать эти благоприятные подношения Его Святейшеству как можно дольше. \n  \nСердечная благодарность и сорадование всем\, кто сделал возможным это драгоценное подношение от имени Ламы Сопы Ринпоче.  \nВ избранное
URL:https://fpmt.ru/event/060724/
CATEGORIES:Календарь сайта
ATTACH;FMTTYPE=image/jpeg:https://fpmt.ru/wp-content/uploads/2023/10/whatsapp-image-2023-10-23-at-18.50.55.jpg
END:VEVENT
END:VCALENDAR