BEGIN:VCALENDAR
VERSION:2.0
PRODID:-//Ганден Тендар Линг - ECPv5.16.4//NONSGML v1.0//EN
CALSCALE:GREGORIAN
METHOD:PUBLISH
X-WR-CALNAME:Ганден Тендар Линг
X-ORIGINAL-URL:https://fpmt.ru
X-WR-CALDESC:Мероприятия для Ганден Тендар Линг
BEGIN:VTIMEZONE
TZID:Europe/Moscow
BEGIN:STANDARD
TZOFFSETFROM:+0300
TZOFFSETTO:+0300
TZNAME:MSK
DTSTART:20240101T000000
END:STANDARD
END:VTIMEZONE
BEGIN:VEVENT
DTSTART;TZID=Europe/Moscow:20240807T110000
DTEND;TZID=Europe/Moscow:20250322T150000
DTSTAMP:20260421T145246
CREATED:20250319T152603Z
LAST-MODIFIED:20250319T152603Z
UID:33051-1723028400-1742655600@fpmt.ru
SUMMARY:Мастерская Ца-ца (отливка/окрашивание)
DESCRIPTION:Друзья\, хотим поделиться с вами радостными событиями. Мастерская обрела постоянное место и обосновалась в новом очень удобном для практики помещении. Мы расположились прямо под Буддийским Залом\, на первом этаже\, буквально у стоп учителей\, будд и бодхисаттв. Это для нас очень радостное событие и мы надеемся\, что это позволит нам ещё больше участвовать в распространении Дхармы через Практику Ца-Ца. Мы планируем не только по-прежнему обучать технике изготовления Ца-Ца всех желающих\, а также продолжим делать Ца-Ца для закладки в строящиеся Ступы\, делать индивидуальные Ца-Ца для тех\, кто болен или испытывает трудности\, для умерших\, чтобы помочь им обрести благое перерождение. Мы планируем проводить 1-2 дневные ретриты по практике божеств\, включающей изготовление Ца-Ца этого божества. Мы мечтаем о детских программах изготовления/окрашивания Ца-ЦА. Практика ЦА-ЦА невозможна в онлайне\, поэтому мы надеемся\, что наша новая Мастерская никогда не будет пустовать.\nМы очень благодарны руководителям центра Ганден Тендар Линг за то\, что в наше непростое время\, с кучей рисков и сложностей\, для Мастерской всё же сняли помещение. Друзья\, приходите к нам! \n\n\n\n\n\n\n\nВ будние дни участие за свободное подношение.\nВ выходные дни: рекомендованное подношение — 800 рублей\, для школьников\, студентов и пенсионеров — 400 руб. Дошкольники могут свободно приходить с родителями. \nВ Мастерской открывается Детская студия по окрашиванию Ца-Ца. Мы приглашаем родителей с детишками прикоснуться к миру Ца-Ца. Созерцание священных образов оставляет глубокие отпечатки в уме как взрослых\, так и детей\, а также пробуждает в уме ребёнка отпечатки из прошлых жизней\, которые могут помочь ребёнку встать на Путь Дхармы. В Мастерской есть всё необходимое — краски\, кисти и готовые для окрашивания Ца-Ца — как простых форм\, так и более сложных. Окрашивание возможно в один цвет золотом или ведущие помогут подобрать цвета для художественного окрашивания. Любые окрашенные Ца-Ца вы сможете взять себе.\nРекомендованное подношение — 800 рублей со взрослого\, 400 рублей — для школьников\, дошкольники могут приходить с родителями свободно. \nКак обычно\, запись на занятия осуществляется через регистрационную форму\, \n\n\n\n\n\n\n\n\nили через чат в Телеграм-канале: \nМастерская Tsa-Tsa\n\n\n\n\n\n\nВложения\n\n\nЛама Сопа Ринпоче о практике Ца-Ца:\nЭта практика один из самых мощных способов очистить препятствия и накопить обширные заслуги.\nДаже уже в этой жизни вы будете меньше болеть\, будет больше радостей\, у вас будет долгая жизнь и хорошая репутация. Это лучший способ обмануть смерть. Изготовление Ца-Ца помогает преодолеть препятствия\, плохие условия\, предотвратить несчастные случаи и внезапные заболевания\, такие как сердечные приступы и параличи. Делая Ца-Ца\, вы умиротворяете врагов\, недоброжелателей и тех\, кто вредит. Вы накапливаете все заслуги\, очищаете все омрачения и в результате достигнете три кайи в следующей жизни. \nПодробная информация о практике Ца-Ца. \nАдрес: г. Москва\, Нахимовский проспект\, 32. Этаж 10\, каб.1023\nКак нас найти: метро Профсоюзная\, последний вагон из центра\, 8 выход\, дойти до Нахимовского проспекта\, повернуть на него налево и идти метров 500 до Института Китая и стран Азии РАН. Зайти во двор\, в 1 подъезд\, 10 этаж\, из лифта направо\, 23 кабинет в конце коридора.\nОхране сказать\, что в Мастерскую Ца-ца. \n\nВ избранное
URL:https://fpmt.ru/event/220325-3/
LOCATION:Москва\, Нахимовский пр\, 32\, Нахимовский пр\, 32\, Москва\, Москва\, Российская Федерация
CATEGORIES:Календарь сайта,Практики
ATTACH;FMTTYPE=image/jpeg:https://fpmt.ru/wp-content/uploads/2021/08/SHablon_dlya_sajta_1920h1080_-_2021-08-29T164000.417.jpg
ORGANIZER;CN="%D0%A6%D0%B5%D0%BD%D1%82%D1%80%20%22%D0%93%D0%B0%D0%BD%D0%B4%D0%B5%D0%BD%20%D0%A2%D0%B5%D0%BD%D0%B4%D0%B0%D1%80%20%D0%9B%D0%B8%D0%BD%D0%B3%22":MAILTO:tsa-tsa@fpmt.ru
END:VEVENT
BEGIN:VEVENT
DTSTART;TZID=Europe/Moscow:20241109T110000
DTEND;TZID=Europe/Moscow:20241109T130000
DTSTAMP:20260421T145246
CREATED:20241007T162748Z
LAST-MODIFIED:20241007T162748Z
UID:31532-1731150000-1731157200@fpmt.ru
SUMMARY:КУРС ОТКРЫТИЕ БУДДИЗМА. Приступаем к изучению темы «Духовный учитель»
DESCRIPTION:“Сущность гуру — это мудрость: совершенно ясное и лучезарное состояние ума\, в котором блаженство и реализация пустоты объединены в одно целое.” — лама Сопа Ринпоче \nО модуле \nОсновная тема модуля – роль учителя на духовном пути: как найти «правильного» учителя и\, если мы познакомились с подходящим учителем\, как построить с ним здоровые конструктивные отношения. Мы также обсудим\, какие средства помогут преодолевать трудности в отношениях с учителем и как наилучшим образом практиковать так называемую преданность гуру на пути к пробуждению. \n\n\nРЕГИСТРАЦИЯ\n\n \nЧто такое «Открытие Буддизма»?  \nКурс опирается на рекомендации и наставления Его Святейшества Далай-ламы и основателей ФПМТ ламы Еше и ламы Сопы Ринпоче\, а также их учеников\, представляющих тибетскую буддийскую традицию махаяны. «Открытие буддизма» идет в центрах ФПМТ по всему миру. С 2011 года адаптированный для России курс прошли несколько сотен участников. Программа состоит из 14 модулей. Каждый модуль посвящен одному из аспектов буддийского учения. Их можно изучать как последовательно\, так и по отдельности\, присоединяясь к курсу на любом модуле. Подробнее о курсе. \nФормат \n\n5 семинаров с сертифицированным учителем ФПМТ в Zoom или в московском помещении центра «Ганден Тендар Линг» (м. Профсоюзная)\nмедитации и групповые обсуждения.\nоднодневный ретрит после завершения серии семинаров.\nитоговое тестирование на образовательной платформе.\n\nПрограмма предполагает выполнение домашних заданий\, в ходе которых слушатели знакомятся с обязательными и дополнительными учебными материалами\, а также выполняют пройденные на семинарах медитации. \nОб учителях \nДосточтимая Тензин Янки — буддийская монахиня тибетской традиции. С 2003 года была активным волонтером в центре Шедруб Линг на горе Качканар\, где приняла Прибежище и начала буддийскую практику. С 2016 года уехала в Индию\, где прожила 2\,5 года\, и за это время 3 месяца была волонтером в ретритном центре Тушита (ФПМТ)\, а остальное время жила и работала в монастыре Тосам Линг. В 2018 году приняла монашеские обеты от Его Святейшества Далай-ламы. \n  \n  \nДосточтимая Тубтен Пелгье — сертифицированный учитель ФПМТ и ученица ламы Сопы Ринпоче. Многие из вас уже знакомы с досточтимой Пелгье\, участвовали вместе с ней в ретритах по практике ньюнгне\, проходили предыдущие модули курса «Открытие буддизма» а также помните ее многолетнее активное и трудолюбивое волонтерское участие в работе московского центра. Досточтимая Пелгье являет собой тот самый пример\, когда углубленное изучение и практика буддизма преобразуют весь жизненный путь. \n  \n  \nДаты \n5 октября 14:00 (мск) – Организационное собрание \n12 октября 11:00 (мск) – занятие 1 \n19 октября 11:00 (мск) – занятие 2 \n26 октября 11:00 (мск) – занятие 3 \n2 ноября 11:00 (мск) – занятие 4 \n9 ноября 11:00 (мск) – занятие 5 \n16 ноября – (время будет уточнено позднее) – ретритная практика \nАдрес \nКак нас найти: метро Профсоюзная\, последний вагон из центра\, 8 выход\, дойти до Нахимовского проспекта\, повернуть на него налево и идти метров 500 до Института Китая и стран Азии РАН. Зайти во двор\, в 1 подъезд\, 10 этаж\, из лифта направо\, 21 кабинет в конце коридора. \nОргвзнос \nРекомендуемый оргвзнос за участие в модуле составляет 3500 рублей (включает 5 групповых занятия\, однодневную практику (ретрит выходного дня) и материалы). Сделать оргвзнос можно сразу после регистрации или по ссылке\, которая придет в письме после регистрации на модуль. Если внести взнос в полном объеме для вас затруднительно\, всегда можно внести его позднее или частично\, или внести ваш вклад в развитие учебной программы волонтерской помощью. Главное – ваше желание изучать Дхарму. При возникновении трудностей с внесением полной или частичной суммы оргвзноса напишите нам на spc@fpmt.ru. \nРегистрация \nДля участия требуется пройти регистрацию. В течение всего модуля участники будут получать домашние задания и материалы для чтения\, просмотра и самостоятельного изучения. \n\n\nРЕГИСТРАЦИЯ\n\n \nПройдя регистрацию\, вы получите письмо с первыми ознакомительными материалами для подготовки: 25-минутным фильмом курса «Открытие Буддизма» к данному модулю и несколькими полезными учениями. \n\n\nСДЕЛАТЬ ПОДНОШЕНИЕ (ОРГВЗНОС) \n\n \nЕсли у вас остались вопросы или появились предложения\, пожалуйста\, напишите нам на spc@fpmt.ru \n  \n(На фото: Лама Сопа Ринпоче и его сестра Ани Нгаванг Самтен вместе с Его Святейшеством Далай-ламой) \n  \nВ избранное
URL:https://fpmt.ru/event/091124-2/
LOCATION:Москва
CATEGORIES:Открытие Буддизма
ATTACH;FMTTYPE=image/jpeg:https://fpmt.ru/wp-content/uploads/2024/09/0110-1.jpg
END:VEVENT
BEGIN:VEVENT
DTSTART;TZID=Europe/Moscow:20241109T110000
DTEND;TZID=Europe/Moscow:20241109T150000
DTSTAMP:20260421T145246
CREATED:20241104T130829Z
LAST-MODIFIED:20241104T130829Z
UID:31766-1731150000-1731164400@fpmt.ru
SUMMARY:Мастерская Ца-ца (отливка/окрашивание)
DESCRIPTION:На фото: Лама Сопа Ринпоче и его сестра Ани Нгаванг Самтен вместе с Его Святейшеством Далай-ламой \nДрузья\, хотим поделиться с вами радостными событиями. Мастерская обрела постоянное место и обосновалась в новом очень удобном для практики помещении. Мы расположились прямо под Буддийским Залом\, на первом этаже\, буквально у стоп учителей\, будд и бодхисаттв. Это для нас очень радостное событие и мы надеемся\, что это позволит нам ещё больше участвовать в распространении Дхармы через Практику Ца-Ца. Мы планируем не только по-прежнему обучать технике изготовления Ца-Ца всех желающих\, а также продолжим делать Ца-Ца для закладки в строящиеся Ступы\, делать индивидуальные Ца-Ца для тех\, кто болен или испытывает трудности\, для умерших\, чтобы помочь им обрести благое перерождение. Мы планируем проводить 1-2 дневные ретриты по практике божеств\, включающей изготовление Ца-Ца этого божества. Мы мечтаем о детских программах изготовления/окрашивания Ца-ЦА. Практика ЦА-ЦА невозможна в онлайне\, поэтому мы надеемся\, что наша новая Мастерская никогда не будет пустовать.\nМы очень благодарны руководителям центра Ганден Тендар Линг за то\, что в наше непростое время\, с кучей рисков и сложностей\, для Мастерской всё же сняли помещение. Друзья\, приходите к нам! \n\n\n\n\n\n\n\nВ будние дни участие за свободное подношение.\nВ выходные дни: рекомендованное подношение — 800 рублей\, для школьников\, студентов и пенсионеров — 400 руб. Дошкольники могут свободно приходить с родителями. \nВ Мастерской открывается Детская студия по окрашиванию Ца-Ца. Мы приглашаем родителей с детишками прикоснуться к миру Ца-Ца. Созерцание священных образов оставляет глубокие отпечатки в уме как взрослых\, так и детей\, а также пробуждает в уме ребёнка отпечатки из прошлых жизней\, которые могут помочь ребёнку встать на Путь Дхармы. В Мастерской есть всё необходимое — краски\, кисти и готовые для окрашивания Ца-Ца — как простых форм\, так и более сложных. Окрашивание возможно в один цвет золотом или ведущие помогут подобрать цвета для художественного окрашивания. Любые окрашенные Ца-Ца вы сможете взять себе.\nРекомендованное подношение — 800 рублей со взрослого\, 400 рублей — для школьников\, дошкольники могут приходить с родителями свободно. \nКак обычно\, запись на занятия осуществляется через регистрационную форму\, \n\n\n\n\n\n\n\n\nили через чат в Телеграм-канале: \nМастерская Tsa-Tsa\n\n\n\n\n\n\nВложения\n\n\nЛама Сопа Ринпоче о практике Ца-Ца:\nЭта практика один из самых мощных способов очистить препятствия и накопить обширные заслуги.\nДаже уже в этой жизни вы будете меньше болеть\, будет больше радостей\, у вас будет долгая жизнь и хорошая репутация. Это лучший способ обмануть смерть. Изготовление Ца-Ца помогает преодолеть препятствия\, плохие условия\, предотвратить несчастные случаи и внезапные заболевания\, такие как сердечные приступы и параличи. Делая Ца-Ца\, вы умиротворяете врагов\, недоброжелателей и тех\, кто вредит. Вы накапливаете все заслуги\, очищаете все омрачения и в результате достигнете три кайи в следующей жизни. \nПодробная информация о практике Ца-Ца. \nАдрес: г. Москва\, Нахимовский проспект\, 32. Этаж 10\, каб.1023\nКак нас найти: метро Профсоюзная\, последний вагон из центра\, 8 выход\, дойти до Нахимовского проспекта\, повернуть на него налево и идти метров 500 до Института Китая и стран Азии РАН. Зайти во двор\, в 1 подъезд\, 10 этаж\, из лифта направо\, 23 кабинет в конце коридора.\nОхране сказать\, что в Мастерскую Ца-ца. \n\nВ избранное
URL:https://fpmt.ru/event/091124-4/
LOCATION:Москва\, Нахимовский пр\, 32\, Нахимовский пр\, 32\, Москва\, Москва\, Российская Федерация
CATEGORIES:Календарь сайта,Практики
ATTACH;FMTTYPE=image/jpeg:https://fpmt.ru/wp-content/uploads/2021/08/SHablon_dlya_sajta_1920h1080_-_2021-08-29T164000.417.jpg
ORGANIZER;CN="%D0%A6%D0%B5%D0%BD%D1%82%D1%80%20%22%D0%93%D0%B0%D0%BD%D0%B4%D0%B5%D0%BD%20%D0%A2%D0%B5%D0%BD%D0%B4%D0%B0%D1%80%20%D0%9B%D0%B8%D0%BD%D0%B3%22":MAILTO:tsa-tsa@fpmt.ru
END:VEVENT
BEGIN:VEVENT
DTSTART;TZID=Europe/Moscow:20241109T160000
DTEND;TZID=Europe/Moscow:20241109T180000
DTSTAMP:20260421T145246
CREATED:20241013T114653Z
LAST-MODIFIED:20241104T133758Z
UID:31587-1731168000-1731175200@fpmt.ru
SUMMARY:Практика Будды Медицины
DESCRIPTION:Приглашаем вас принять участие в онлайн-практике: — совместное чтение Обширной Сутры Будды Медицины и дхарани Будды Медицины\, — краткая практика Будды Медицины с начитыванием мантры. \nПринять участие могут все желающие. \n«Когда живое существо просто слышит имя и мантру Будды Медицины\, все будды и бодхисаттвы нисходят к нему и дают посвящение и благословение. Будды и бодхисаттвы также способствуют созреванию чистых молитв\, вознесённых теми\, кто слышит имя и мантру Будды Медицины. Кроме того\, их жизнь продлится. Даже если у этого живого существа истощился жизненный срок вследствие его кармы\, стоит ему услышать имя и мантру Будды Медицины\, как будды и бодхисаттвы помогут ему прожить долго\, даже сотни лет\, и наслаждаться покоем и счастьем.»  – Лама Сопа Ринпоче. Книга «Практика Будды Медицины. Наставления в затворничестве» \nМесто: видеочат в Телеграм-канале центра «Ганден Тендар Линг» (прямо здесь). \nКак принять участие? \n1) Заранее скачайте текст: СУТРА\, ДХАРАНИ\, ПРАКТИКА_Будда Медицины. \n2) Подключайтесь к прямому эфиру в Телеграм-канале. \n  \nВнести список имён для посвящения заслуг можно в комментариях к посту в Телеграме. \nСделать пожертвование \nМесто: видеочат в Телеграм-канале центра «Ганден Тендар Линг». \nКак принять участие?\nПодключайтесь к прямому эфиру в Телеграм-канале.\nТекст сутры и дхарани можно скачать из Телеграм-канала\, а также текст будет выведен на экран в Телеграм-канале.\nВнести список имён для посвящения заслуг можно в комментариях к посту в Телеграме. \nВ избранное
URL:https://fpmt.ru/event/091124-3/
LOCATION:Москва
ATTACH;FMTTYPE=image/jpeg:https://fpmt.ru/wp-content/uploads/2024/08/64360152-b5c8-4331-a500-52b321432f1e.jpg
END:VEVENT
BEGIN:VEVENT
DTSTART;TZID=Europe/Moscow:20241109T170000
DTEND;TZID=Europe/Moscow:20241109T200000
DTSTAMP:20260421T145246
CREATED:20241104T133917Z
LAST-MODIFIED:20241104T133917Z
UID:31776-1731171600-1731182400@fpmt.ru
SUMMARY:Практика переписывания сутр
DESCRIPTION:На фото: Лама Сопа Ринпоче переписывает сутру Праджняпарамиты. Монастырь Копан\, 2021 г. Фотография дост. Лобсанга Шераба \nДрузья\, рады поделиться с вами новостями проекта по медитативному переписыванию буддийских сутр золотистыми чернилами. \nЗанятия будут проходить в нашей Мастерской Ца-ца по адресу: Нахимовский проспект\, 32 (м. Профсоюзная). \nВсе подробности и изменения в расписании будут публиковаться в Телеграм-сообществе проекта. \nЛама Сопа Ринпоче говорил\, что переписывание сутр — это то же самое\, что создание священного объекта\, и все те\, кто поддерживает переписывание сутр\, кто сам переписывает сутры\, жертвует на материалы для их переписывания или просто сорадуется этому начинанию\, на протяжении всей жизни будут получать пользу от созданного ими священного объекта. После завершения жизни\, где бы они ни переродились\, они будут продолжать получать благо вплоть до своего пробуждения. \nВ качестве подготовки к практике рекомендуем к просмотру лекцию Тамары Илюхиной «История тибетской письменности\, структура тибетских букв и правила их написания». \nВ монастыре Копан в Непале уже более двадцати лет продолжается тихая\, но монументальная работа. В 2002 году лама Сопа Ринпоче поручил досточтимому Лобсангу Церингу проект по написанию Сутры Праджняпарамиты красивым каллиграфическим почерком на бумаге архивного качества чернилами из чистого золота.  Дост. Церинг полностью посвятил себя этой практике с непоколебимой сосредоточенностью\, терпением\, мудростью и состраданием. Длинная версия Сутры содержит 100 000 строф. Сейчас монах завершает пятый из двенадцати томов. В процессе слушает записи учений Его Святейшества Далай-ламы и ламы Сопы Ринпоче. \n«Даже если написать всего одну букву Праджняпарамиты\, даже если написать всего лишь одну букву\, один слог\, польза от этого столь невероятна! Она больше\, чем если вы совершаете обширные подношения\, подобные небесам\, бесчисленным буддам на протяжении множества эонов»\, — объяснял Ринпоче. \n \nНа фото: Лама Сопа Ринпоче и дост. Церинг работают над переписыванием сутры \nВесной волонтеры нашего центра посещали Копан\, где познакомились с дост. Церингом\, сфотографировали его рабочее место и записали небольшой фрагмент беседы. Предлагаем посмотреть видео (на английском) и почувствовать сорадование заслугам монаха! Если вас вдохновляет медитативная практика переписывания сутр присоединяйтесь на совместную практику! \nРабочее место дост. Церинга в монастыре Копан\, 2024 г. \nВ нашем центре практика переписывания сутр впервые была организована на Фестивале благой удачи\, где мы совместными усилиями с Фондом «Сохраним Тибет» постарались создать среду обретения максимальной пользы и накопления заслуг\, согласно наставлениям Ламы Сопы Ринпоче (что\, конечно же\, не отражало всей полноты наставлений и представляло лишь часть того\, что Ринпоче рекомендовал своим ученикам). Практика\, к нашему сорадованию\, вызвала большой отклик\, что заставило нас двигаться дальше и развивать это направление. \nВ избранное
URL:https://fpmt.ru/event/091124-5/
LOCATION:Москва
CATEGORIES:Календарь сайта
ATTACH;FMTTYPE=image/jpeg:https://fpmt.ru/wp-content/uploads/2024/10/7.jpg
END:VEVENT
BEGIN:VEVENT
DTSTART;TZID=Europe/Moscow:20241109T210000
DTEND;TZID=Europe/Moscow:20241109T220000
DTSTAMP:20260421T145246
CREATED:20241103T143915Z
LAST-MODIFIED:20241103T143915Z
UID:31743-1731186000-1731189600@fpmt.ru
SUMMARY:Чтения Манджушри Нама Самгити
DESCRIPTION:Его Святейшество Далай-лама даровал драгоценные наставления ученикам и последователям Ламы Сопы Ринпоче\, обратившимся к нему с вопросом о новом воплощении Ламы Сопы. Его Святейшество рекомендовал в течение ближайших нескольких месяцев непрерывно начитывать «Называние имен благородного Манджушри» для скорейшего возвращения реинкарнации Ринпоче. \nЦентр «Ганден Тендар Линг» приглашает присоединиться к совместному чтению этого драгоценного текста в специально созданной группе в Телеграм.  \n\n\nГруппа чтения «Манджушри Нама Самгити»\n\n \n«Мы обращаемся ко всем ученикам Ламы Сопы Ринпоче с просьбой непрерывно повторять этот текст как можно больше раз\, начиная с сегодняшнего дня. Через несколько месяцев к Его Святейшеству снова обратятся за советом»\, — сообщается на сайте Фонда. \nТексты практики \n— на русском языке\, \n— на английском языке. \nАудиозапись (лунг)\, где Лама Сопа Ринпоче читает «Называние имен Манджушри» можно послушать по ссылке. \nТекст письма из офиса Его Святейшества Далай-ламы: \n \n  \n  \n  \n«В ответ на просьбу учеников центров ФПМТ о проведении проверки по поводу скорейшего возвращения реинкарнации покинувшего этот мир Сопы Ринпоче\, получен следующий результат: пожалуйста\, непрерывно читайте «Имена Манджушри» (Джампал Тшен Джо)\, а через несколько месяцев вновь будет проведена проверка. \nОт Его Святейшества Далай-ламы \n18 октября 2023 г.» \n  \n  \n  \nНеделей ранее радостной новостью о подношении 458 статуй Будды Его Святейшеству Далай-ламе поделились в Копане. \n«У нас невероятно радостная новость! На прошлой неделе были поднесены оставшиеся 458 статуи Будды из 1000 статуй\, которые были изготовлены для долгой жизни Его Святейшества Далай-ламы\, первые из них были поднесены во время пуджи долгой жизни в мае 2023 года»\, — поделились организаторы. \nВ начале сентября несколько геше из монастыря Копан (Непал) отправились в медитационный центр «Тушита» в Маклеод Гандже\, чтобы принять статуи\, которые были доставлены на грузовике из Непала\, где они были изготовлены. Как только все статуи были доставлены\, геше Копана с большой заботой и радостью наполнили каждую статую\, провели обряд освящения\, и упаковали их\, чтобы они могли быть поднесены Его Святейшеству Далай-ламе. \nПосмотреть короткое видео о ходе работ по подготовке статуй можно по ссылке. \nПо завершении работ\, геше посетили офис Его Святейшества\, чтобы выяснить\, когда и как лучше всего поднести статуи\, и получили радостную новость о том\, что на следующий день каждый из них сможет поднести по одной статуэтке из подготовленных 458 лично Его Святейшеству. Это благоприятное подношение Его Святейшеству Далай-ламе монахами Копана было совершено от имени Ламы Сопы Ринпоче и всех учеников центров Ринпоче. Остальные статуи также были переданы Его Святейшеству. \nЛама Сопа Ринпоче отмечал\, что хотел бы\, чтобы подношение статуй Будды продолжалось и после подношения 1000 статуй. Ученики Ринпоче отмечают\, что с нетерпением ждут возможности выполнить эту просьбу. Поскольку Его Святейшество Далай-лама дарит статуи гостям и высокопоставленным лицам\, Лама Сопа Ринпоче хотел иметь возможность делать эти благоприятные подношения Его Святейшеству как можно дольше. \n  \nСердечная благодарность и сорадование всем\, кто сделал возможным это драгоценное подношение от имени Ламы Сопы Ринпоче.  \nВ избранное
URL:https://fpmt.ru/event/091124/
LOCATION:Москва
CATEGORIES:Календарь сайта
ATTACH;FMTTYPE=image/jpeg:https://fpmt.ru/wp-content/uploads/2023/10/whatsapp-image-2023-10-23-at-18.50.55.jpg
END:VEVENT
END:VCALENDAR