BEGIN:VCALENDAR
VERSION:2.0
PRODID:-//Ганден Тендар Линг - ECPv5.16.4//NONSGML v1.0//EN
CALSCALE:GREGORIAN
METHOD:PUBLISH
X-WR-CALNAME:Ганден Тендар Линг
X-ORIGINAL-URL:https://fpmt.ru
X-WR-CALDESC:Мероприятия для Ганден Тендар Линг
BEGIN:VTIMEZONE
TZID:Europe/Moscow
BEGIN:STANDARD
TZOFFSETFROM:+0300
TZOFFSETTO:+0300
TZNAME:MSK
DTSTART:20250101T000000
END:STANDARD
END:VTIMEZONE
BEGIN:VEVENT
DTSTART;TZID=Europe/Moscow:20250413T130000
DTEND;TZID=Europe/Moscow:20250413T200000
DTSTAMP:20260421T160007
CREATED:20250404T181844Z
LAST-MODIFIED:20250404T181844Z
UID:33113-1744549200-1744574400@fpmt.ru
SUMMARY:13 апреля – День благодарности Ламе Сопе Ринпоче в Москве
DESCRIPTION:Дорогие друзья! Буддийский центр «Ганден Тендар Линг» и фонд «Наланда» (ранее «Сохраним Тибет») приглашают вас провести вместе с нами воскресный день 13 апреля\, который мы посвятим памяти нашего любимого учителя Ламы Сопы Ринпоче. \nБуддийские учителя старшего поколения постепенно покидают наш мир\, оставляя после себя бесценное наследие – дарованные учения и посвящения\, написанные книги\, возведенные монастыри\, ступы и статуи\, но самое главное – зароненные в потоки ума учеников семена сострадания\, добросердечия и постижения природы реальности. Мы всегда будем благодарны им за то\, что они указали нам путь. \nЛама Сопа Ринпоче оставил этот мир 13 апреля 2023 года. Двумя годами спустя\, 13 апреля 2025 года\, его российские ученики соберутся вместе\, чтобы вспомнить о доброте учителя и прочитать молитвы о его скорейшем перерождении. \nМы подготовили для вас особенную программу\, которая позволит всем участникам окунуться в необыкновенный мир Ламы Сопы Ринпоче – великого бодхисаттвы\, посвятившего жизнь развитию буддийской Дхармы и счастью и благополучию всех живых существ. На протяжении целого дня вы сможете участвовать в совместных практиках медитации под руководством преподавателя нашего центра – досточтимой Пелгье\, переписывании сутр и начитывании буддийских мантр и молитв для накопления заслуг и работе мастерской по изготовлению ца-ца. \nВы сможете получить благословение священной реликвии основателя буддизма Будды Шакьямуни\, помещенной в изготовленную по специальному заказу ступу. Реликвия\, представляющая собой частицы праха Будды Шакьямуни\, была передана духовным лидером тибетского буддизма Его Святейшеством Далай-ламой в 2011 году организаторам учений духовного лидера для буддистов России. \nВ рамках программы состоится презентации новой книги Ламы Сопы Ринпоче «Сила мантры: важнейшие практики для преображения» (Ганден Тендар Линг\, 2025)\, в которой учитель рассказывает о самых известных мантрах в тибетской традиции буддизма – мантрах Будды Шакьямуни\, Авалокитешвары\, Манджушри\, Тары\, Будды Медицины\, Ваджрасаттвы и других божеств. В презентации примет участие геше Йонтен\, председатель Центрального духовного управления буддистов (ЦДУБ). \nВ День благодарности Ламе Сопе Ринпоче состоится показ нового документального фильма Романа Сухоставского «Монастырь Копан: где рождаются будды» об известном буддийском монастыре\, возведенном в Катманду\, Непал\, усилиями Ламы Йеше и Ламы Сопы Ринпоче и ставшим важнейшим образовательным центром для буддистов всего мира. Сегодня в монастыре Копан хранится святое тело Ламы Сопы Ринпоче. \nПрограмма проходит при неоценимой поддержке фонда «Дрепунг Гоманг Центр» и монахов монастыря Дрепунг Гоманг. Геше Келсанг Ньима дарует учения о важности гуру\, а геше Тхуптен Дхондруп разъяснят практику Белой Тары Всеисполняющее Колесо\, последнюю практику\, которую разъяснил Лама Сопа Ринпоче перед своим уходом. Монахи монастыря Дрепунг Гоманг также возглавят проведение большой гуру-пуджи – заключительную часть большой программы. \nСогласно наставлениям Ламы Сопы Ринпоче\, в день памяти духовного учителя важнее всего выполнять практику гуру-пуджи\, совмещенной с обширным подношением цога. Мы приглашаем всех принять участие в этой глубокой практике и вместе создать причины для скорейшего прихода в этот мир нового безошибочного воплощения Ламы Сопы Ринпоче. \nСобытие состоится в необычном пространстве двухэтажного лофта IDEALISTA по адресу: Москва\, ул. Нижняя Сыромятническая\, дом 11\, стр. 1 (м. Курская\, вход со стороны Сыромятнической набережной\, проходная Б1\, далее по указателям). \nМы открыты для вас с 13:00 до 20:00 (мск). \nЗАРЕГИСТРИРОВАТЬСЯ  \nВход свободный. Для участия необходима регистрация. \nПрограмма Дня благодарности Ламе Сопе Ринпоче в Москве 13 апреля 2025 г. \n(Внимание! В программе возможны изменения и дополнения) \n13:00 – 14:00 Торжественное открытие Дня благодарности Ламе Сопе Ринпоче. Совместная практика гуру-йоги Дже Цонкапы «Сто божеств Тушиты» (Гаден Лхагьяма) с досточтимой Пелгье (преподавателем нашего центра). \nТакже с 13:30 Мастерская по изготовлению ца-ца: живая демонстрация.  Объяснение традиции раскрашивания статуй. Открытие глаз 150 буддам. Мастер-класс по сворачиванию мантр для закладки в ца-ца. \nПереписывание сутр для накопления заслуг. \nЧтение Сутры золотого света (глава «Исповедь»)\, чтение Сутры Будды Медицины и других сутр. \n14:00 – 15:00 Презентация проектов Ламы Сопы в России (образование\, книгоиздание\, мастерские ца-ца\, распространение сутр). \nТакже в 14:00  Занятие по буддийской медитации с досточтимой Пелгье. \n15:00 – 16:00 Премьера документального фильма Романа Сухоставского «Монастырь Копан: где рождаются будды». В фильме принимает участие геше Тензин Сопа. \n16:00 – 17:00 Презентация новой книги Ламы Сопы Ринпоче «Книга «Сила мантры: важнейшие практики для преображения» (Ганден Тендар Линг\, 2025). Начитывание мантр с досточтимым геше Йонтеном\, председателем Центрального духовного управления буддистов (ЦДУБ). \n17:00 – 20:00 Геше Келсанг Ньима (монастырь Дрепунг Гоманг). Учение о важности учителя\, о том\, как памятовать о доброте гуру даже после его ухода из жизни и о том\, как ученики могут создать условия для встречи с ним в следующих воплощениях. \nГеше Тхуптен Дхондруп (монастырь Дрепунг Гоманг). Объяснение практики Белой Тары Всеисполняющее Колесо\, которую Лама Сопа Ринпоче разъяснил перед своим уходом. \nБольшая гуру-пуджа\, совмещенная с подношением цога\, под руководством монахов монастыря Дрепунг Гоманг. \nБудем рады видеть вас в лофте IDEALISTA 13 апреля в удобное для вас время! \n  \nВ избранное
URL:https://fpmt.ru/event/130425/
CATEGORIES:Календарь сайта,Практики
ATTACH;FMTTYPE=image/jpeg:https://fpmt.ru/wp-content/uploads/2025/04/izobrazhenie-whatsapp-2025-04-04-v-21.06.45_99fd1816.jpg
END:VEVENT
BEGIN:VEVENT
DTSTART;TZID=Europe/Moscow:20250413T210000
DTEND;TZID=Europe/Moscow:20250413T220000
DTSTAMP:20260421T160007
CREATED:20250406T075134Z
LAST-MODIFIED:20250406T075134Z
UID:33133-1744578000-1744581600@fpmt.ru
SUMMARY:Чтения Манджушри Нама Самгити
DESCRIPTION:Его Святейшество Далай-лама даровал драгоценные наставления ученикам и последователям Ламы Сопы Ринпоче\, обратившимся к нему с вопросом о новом воплощении Ламы Сопы. Его Святейшество рекомендовал в течение ближайших нескольких месяцев непрерывно начитывать «Называние имен благородного Манджушри» для скорейшего возвращения реинкарнации Ринпоче. \nЦентр «Ганден Тендар Линг» приглашает присоединиться к совместному чтению этого драгоценного текста в специально созданной группе в Телеграм.  \n\n\nГруппа чтения «Манджушри Нама Самгити»\n\n \n«Мы обращаемся ко всем ученикам Ламы Сопы Ринпоче с просьбой непрерывно повторять этот текст как можно больше раз\, начиная с сегодняшнего дня. Через несколько месяцев к Его Святейшеству снова обратятся за советом»\, — сообщается на сайте Фонда. \nТексты практики \n— на русском языке\, \n— на английском языке. \nАудиозапись (лунг)\, где Лама Сопа Ринпоче читает «Называние имен Манджушри» можно послушать по ссылке. \nТекст письма из офиса Его Святейшества Далай-ламы: \n \n  \n  \n  \n«В ответ на просьбу учеников центров ФПМТ о проведении проверки по поводу скорейшего возвращения реинкарнации покинувшего этот мир Сопы Ринпоче\, получен следующий результат: пожалуйста\, непрерывно читайте «Имена Манджушри» (Джампал Тшен Джо)\, а через несколько месяцев вновь будет проведена проверка. \nОт Его Святейшества Далай-ламы \n18 октября 2023 г.» \n  \n  \n  \nНеделей ранее радостной новостью о подношении 458 статуй Будды Его Святейшеству Далай-ламе поделились в Копане. \n«У нас невероятно радостная новость! На прошлой неделе были поднесены оставшиеся 458 статуи Будды из 1000 статуй\, которые были изготовлены для долгой жизни Его Святейшества Далай-ламы\, первые из них были поднесены во время пуджи долгой жизни в мае 2023 года»\, — поделились организаторы. \nВ начале сентября несколько геше из монастыря Копан (Непал) отправились в медитационный центр «Тушита» в Маклеод Гандже\, чтобы принять статуи\, которые были доставлены на грузовике из Непала\, где они были изготовлены. Как только все статуи были доставлены\, геше Копана с большой заботой и радостью наполнили каждую статую\, провели обряд освящения\, и упаковали их\, чтобы они могли быть поднесены Его Святейшеству Далай-ламе. \nПосмотреть короткое видео о ходе работ по подготовке статуй можно по ссылке. \nПо завершении работ\, геше посетили офис Его Святейшества\, чтобы выяснить\, когда и как лучше всего поднести статуи\, и получили радостную новость о том\, что на следующий день каждый из них сможет поднести по одной статуэтке из подготовленных 458 лично Его Святейшеству. Это благоприятное подношение Его Святейшеству Далай-ламе монахами Копана было совершено от имени Ламы Сопы Ринпоче и всех учеников центров Ринпоче. Остальные статуи также были переданы Его Святейшеству. \nЛама Сопа Ринпоче отмечал\, что хотел бы\, чтобы подношение статуй Будды продолжалось и после подношения 1000 статуй. Ученики Ринпоче отмечают\, что с нетерпением ждут возможности выполнить эту просьбу. Поскольку Его Святейшество Далай-лама дарит статуи гостям и высокопоставленным лицам\, Лама Сопа Ринпоче хотел иметь возможность делать эти благоприятные подношения Его Святейшеству как можно дольше. \n  \nСердечная благодарность и сорадование всем\, кто сделал возможным это драгоценное подношение от имени Ламы Сопы Ринпоче.  \nВ избранное
URL:https://fpmt.ru/event/130425-2/
CATEGORIES:Календарь сайта
ATTACH;FMTTYPE=image/jpeg:https://fpmt.ru/wp-content/uploads/2023/10/whatsapp-image-2023-10-23-at-18.50.55.jpg
END:VEVENT
END:VCALENDAR